BEGIN:VCALENDAR
VERSION:2.0
PRODID:-//InvisionCommunity Events 4.7.14//EN
METHOD:PUBLISH
CALSCALE:GREGORIAN
REFRESH-INTERVAL:PT15M
X-PUBLISHED-TTL:PT15M
X-WR-CALNAME:The Elder Scrolls Online
NAME:The Elder Scrolls Online
BEGIN:VTIMEZONE
TZID:Europe/London
TZURL:http://tzurl.org/zoneinfo/Europe/London
X-LIC-LOCATION:Europe/London
BEGIN:DAYLIGHT
TZOFFSETFROM:+0000
TZOFFSETTO:+0100
TZNAME:BST
DTSTART:20220327T020000Z
RRULE:FREQ=YEARLY;BYMONTH=3;BYDAY=-1SU
END:DAYLIGHT
BEGIN:STANDARD
TZOFFSETFROM:+0100
TZOFFSETTO:+0000
TZNAME:GMT
DTSTART:20221030T020000Z
RRULE:FREQ=YEARLY;BYMONTH=10;BYDAY=-1SU
END:STANDARD
END:VTIMEZONE
BEGIN:VEVENT
SUMMARY:[TESO] Небесные о
	сколки Морровинда (Вварденфелл\
	, Дешаан\, Стоунфолоз)
DTSTAMP:20220404T155913Z
SEQUENCE:0
UID:9990-1-afb15bc42254ad5fb0481ce5e9c8144d@forum.bandits-clan.ru
ORGANIZER;CN="Dmitriyvaulin":web@bandits-clan.ru
DESCRIPTION:\n	Приглаш
	аю всех на сб
	ор небесных 
	осколков Морровин
	да (Вварденфелл\, Дешаан\, Ст
	оунфолоз) ЛВЛ НЕ ВАЖЕН!\n\n\n\n	 \n\n\n\n	Тр
	ебования:\n\n\n\n	\n		Discord
	 и наличие микрофона
	 (Собираемся в дискорд канале \"Мировы
	е боссы\")\n	\n\n
DTSTART:20220407T150000Z
ATTENDEE;CN="IIersona";CUTYPE=INDIVIDUAL;PARTSTAT=ACCEPTED:w
	eb@bandits-clan.ru
END:VEVENT
END:VCALENDAR
