BEGIN:VCALENDAR
VERSION:2.0
PRODID:-//InvisionCommunity Events 4.7.14//EN
METHOD:PUBLISH
CALSCALE:GREGORIAN
REFRESH-INTERVAL:PT15M
X-PUBLISHED-TTL:PT15M
X-WR-CALNAME:The Elder Scrolls Online
NAME:The Elder Scrolls Online
BEGIN:VTIMEZONE
TZID:Europe/London
TZURL:http://tzurl.org/zoneinfo/Europe/London
X-LIC-LOCATION:Europe/London
BEGIN:DAYLIGHT
TZOFFSETFROM:+0000
TZOFFSETTO:+0100
TZNAME:BST
DTSTART:20220327T020000Z
RRULE:FREQ=YEARLY;BYMONTH=3;BYDAY=-1SU
END:DAYLIGHT
BEGIN:STANDARD
TZOFFSETFROM:+0100
TZOFFSETTO:+0000
TZNAME:GMT
DTSTART:20221030T020000Z
RRULE:FREQ=YEARLY;BYMONTH=10;BYDAY=-1SU
END:STANDARD
END:VTIMEZONE
BEGIN:VEVENT
SUMMARY:[TESO] Аттестация танков
DTSTAMP:20220404T151632Z
SEQUENCE:0
UID:9988-1-afb15bc42254ad5fb0481ce5e9c8144d@forum.bandits-clan.ru
ORGANIZER;CN="Satius":web@bandits-clan.ru
DESCRIPTION:\n	Приглаша
	ем танков 
	проверить 
	себя и сд
	ать аттестацию 
	на подтверждение с
	воего элитного скил
	ла танкования.  \n\n\
	n\n	Для каждого и
	грока в зачёт 
	идут только п
	ервые 2 попы
	тки. Приоритет 
	в очереди на сдачу
	 аттестации у запи
	савшихся на событ
	ие.\n\n\n\n	Подробности об 
	аттестации можно п
	очитать здесь:\n\n\
	n\n\n	Помимо непо
	средственно 
	самой аттеста
	ции в Драгон С
	тар Арене\, любо
	й игрок может полу
	чить советы по танкова
	нию и всём\, что вокруг
	 этого.\n\n\n\n	Требов
	ание: Желание учиться\, с
	лушать\, понимать и подстраиваться.\n\n\n\n	
	 \n\n
DTSTART:20220522T120000Z
ATTENDEE;CN="Satius";CUTYPE=INDIVIDUAL;PARTSTAT=ACCEPTED:web
	@bandits-clan.ru
ATTENDEE;CN="Zeregen";CUTYPE=INDIVIDUAL;PARTSTAT=ACCEPTED:we
	b@bandits-clan.ru
ATTENDEE;CN="IIersona";CUTYPE=INDIVIDUAL;PARTSTAT=ACCEPTED:w
	eb@bandits-clan.ru
END:VEVENT
END:VCALENDAR
