BEGIN:VCALENDAR
VERSION:2.0
PRODID:-//InvisionCommunity Events 4.7.14//EN
METHOD:PUBLISH
CALSCALE:GREGORIAN
REFRESH-INTERVAL:PT15M
X-PUBLISHED-TTL:PT15M
X-WR-CALNAME:The Elder Scrolls Online
NAME:The Elder Scrolls Online
BEGIN:VTIMEZONE
TZID:Europe/London
TZURL:http://tzurl.org/zoneinfo/Europe/London
X-LIC-LOCATION:Europe/London
BEGIN:DAYLIGHT
TZOFFSETFROM:+0000
TZOFFSETTO:+0100
TZNAME:BST
DTSTART:20220327T020000Z
RRULE:FREQ=YEARLY;BYMONTH=3;BYDAY=-1SU
END:DAYLIGHT
BEGIN:STANDARD
TZOFFSETFROM:+0100
TZOFFSETTO:+0000
TZNAME:GMT
DTSTART:20221030T020000Z
RRULE:FREQ=YEARLY;BYMONTH=10;BYDAY=-1SU
END:STANDARD
END:VTIMEZONE
BEGIN:VEVENT
SUMMARY:[TESO] Ветеранское испытание Паст
	ь Лорхаджа (vMOL)
DTSTAMP:20220328T040906Z
SEQUENCE:0
UID:9962-1-afb15bc42254ad5fb0481ce5e9c8144d@forum.bandits-clan.ru
ORGANIZER;CN="Kubik":web@bandits-clan.ru
DESCRIPTION:\n	Пригла
	шаю всех желающих 
	пройти ветеранское испытание
	 Пасть Лорхаджа (vMOL) в 21:00 М
	СК.\n\n\n\n	Приоритет
	 на людей\, которые з
	аписались и были в прошлом рей
	де.\n\n\n\n	Необходимый состав:\n\n\n\n	\n		
	2 Танка\n	\n	\n		2 Лекаря\n	\n	\n		8 Бо
	йцов\n	\n\n\n\n	Обязательные аддоны:\n\n\n\n	\n		Ban
	dits User Interface\n	\n\n\n\n	Требования для участия
	:\n\n\n\n	\n		DLC - Гильдия Воров или подп
	иска.\n	\n	\n		Звание Raider/Рейдер\n	\n	
	\n		Discord и наличие микрофона\n	\n	\n		Таб
	ард гильдии Daggerfall Bandits / Bandits Clan / Bandits Force\n
		\n\n\n\n	Для подтвер
	ждения участия необх
	одимо отметиться в календаре
	:\n\n\n\n	\n		Нажать кнопку Пойду
	\n	\n	\n		Указать свою роль и ID
	 в комментариях\n	\n	\
	n		Если по каки
	м-то причинам 
	не получится п
	рийти\, отписаться в к
	омментариях\, изменив свое
	 сообщение\n	\n\n\n\n	Описание испытания:\n\n\n
	\n\n	 \n\n
DTSTART:20220329T170000Z
DTEND:20220329T170500Z
ATTENDEE;CN="Kubik";CUTYPE=INDIVIDUAL;PARTSTAT=ACCEPTED:web@
	bandits-clan.ru
ATTENDEE;CN="IIersona";CUTYPE=INDIVIDUAL;PARTSTAT=ACCEPTED:w
	eb@bandits-clan.ru
ATTENDEE;CN="Auzdor";CUTYPE=INDIVIDUAL;PARTSTAT=ACCEPTED:web
	@bandits-clan.ru
ATTENDEE;CN="DetFix";CUTYPE=INDIVIDUAL;PARTSTAT=ACCEPTED:web
	@bandits-clan.ru
ATTENDEE;CN="TanakiFrostBlood";CUTYPE=INDIVIDUAL;PARTSTAT=AC
	CEPTED:web@bandits-clan.ru
END:VEVENT
END:VCALENDAR
