BEGIN:VCALENDAR
VERSION:2.0
PRODID:-//InvisionCommunity Events 4.7.14//EN
METHOD:PUBLISH
CALSCALE:GREGORIAN
REFRESH-INTERVAL:PT15M
X-PUBLISHED-TTL:PT15M
X-WR-CALNAME:The Elder Scrolls Online
NAME:The Elder Scrolls Online
BEGIN:VTIMEZONE
TZID:Europe/London
TZURL:http://tzurl.org/zoneinfo/Europe/London
X-LIC-LOCATION:Europe/London
BEGIN:DAYLIGHT
TZOFFSETFROM:+0000
TZOFFSETTO:+0100
TZNAME:BST
DTSTART:20220327T020000Z
RRULE:FREQ=YEARLY;BYMONTH=3;BYDAY=-1SU
END:DAYLIGHT
BEGIN:STANDARD
TZOFFSETFROM:+0100
TZOFFSETTO:+0000
TZNAME:GMT
DTSTART:20221030T020000Z
RRULE:FREQ=YEARLY;BYMONTH=10;BYDAY=-1SU
END:STANDARD
END:VTIMEZONE
BEGIN:VEVENT
SUMMARY:[TESO] Ветеранское испытание Паст
	ь Лорхаджа (vMOL)
DTSTAMP:20220314T103037Z
SEQUENCE:0
UID:9936-1-afb15bc42254ad5fb0481ce5e9c8144d@forum.bandits-clan.ru
ORGANIZER;CN="klerk88":web@bandits-clan.ru
DESCRIPTION:\n	В эту су
	бботу вете
	ранские страда
	ния будут прои
	сходить в триа
	ле Пасть Лорха
	джа! С вас 160ЧП и
	 табард гильдии.
	 Нам понадобится
	 пара хилов\, два т
	анка и 8дд\, знание тактик н
	е обязательно\, главное жела
	ние!\n\n\n\n	P.S. если у вас есть опыт\,
	 то вам мы тоже рады.\n\n\n
	\n	P.P.S. во время сбора п
	риоритет отдается з
	аписавшимся игрокам.\n\n\n\n	Т
	ребования для участия:\n\n\n\n		
	DLC - Гильдия Воров или подписка E
	SO+\n	\n\n		Discord и наличие микрофона\n	\n
		\n		Табард гильдии Daggerfall Bandits / Bandits Clan / Bandi
	ts Force\n	\n\n	Для по
	дтверждения участ
	ия необходимо отметиться
	 в календаре:\n\n\n\n		Нажать 
	кнопку Пойду\n	\n	\n		Указать
	 свою роль и ID в коммен
	тариях\n	\n	\n		Если
	 по каким-то пр
	ичинам не пол
	учится прийти\, отписа
	ться в комментариях\, изменив свое соо
	бщение\n	\n
DTSTART:20220319T190000Z
ATTENDEE;CN="klerk88";CUTYPE=INDIVIDUAL;PARTSTAT=ACCEPTED:we
	b@bandits-clan.ru
ATTENDEE;CN="IIersona";CUTYPE=INDIVIDUAL;PARTSTAT=ACCEPTED:w
	eb@bandits-clan.ru
ATTENDEE;CN="Auzdor";CUTYPE=INDIVIDUAL;PARTSTAT=ACCEPTED:web
	@bandits-clan.ru
ATTENDEE;CN="Nephilimeaw";CUTYPE=INDIVIDUAL;PARTSTAT=ACCEPTE
	D:web@bandits-clan.ru
ATTENDEE;CN="sda1964";CUTYPE=INDIVIDUAL;PARTSTAT=ACCEPTED:we
	b@bandits-clan.ru
ATTENDEE;CN="DetFix";CUTYPE=INDIVIDUAL;PARTSTAT=ACCEPTED:web
	@bandits-clan.ru
ATTENDEE;CN="fabr78Иван";CUTYPE=INDIVIDUAL;PARTSTAT=ACCE
	PTED:web@bandits-clan.ru
ATTENDEE;CN="irg2021";CUTYPE=INDIVIDUAL;PARTSTAT=ACCEPTED:we
	b@bandits-clan.ru
ATTENDEE;CN="DarkMonk";CUTYPE=INDIVIDUAL;PARTSTAT=ACCEPTED:w
	eb@bandits-clan.ru
END:VEVENT
END:VCALENDAR
