BEGIN:VCALENDAR
VERSION:2.0
PRODID:-//InvisionCommunity Events 4.7.14//EN
METHOD:PUBLISH
CALSCALE:GREGORIAN
REFRESH-INTERVAL:PT15M
X-PUBLISHED-TTL:PT15M
X-WR-CALNAME:The Elder Scrolls Online
NAME:The Elder Scrolls Online
BEGIN:VTIMEZONE
TZID:Europe/London
TZURL:http://tzurl.org/zoneinfo/Europe/London
X-LIC-LOCATION:Europe/London
BEGIN:DAYLIGHT
TZOFFSETFROM:+0000
TZOFFSETTO:+0100
TZNAME:BST
DTSTART:20220327T020000Z
RRULE:FREQ=YEARLY;BYMONTH=3;BYDAY=-1SU
END:DAYLIGHT
BEGIN:STANDARD
TZOFFSETFROM:+0100
TZOFFSETTO:+0000
TZNAME:GMT
DTSTART:20221030T020000Z
RRULE:FREQ=YEARLY;BYMONTH=10;BYDAY=-1SU
END:STANDARD
END:VTIMEZONE
BEGIN:VEVENT
SUMMARY:[TESO] Небесные
	 осколки и публичные подземелья Чёрног
	о леса
DTSTAMP:20220307T202628Z
SEQUENCE:0
UID:9915-1-afb15bc42254ad5fb0481ce5e9c8144d@forum.bandits-clan.ru
ORGANIZER;CN="Dmitriyvaulin":web@bandits-clan.ru
DESCRIPTION:\n	Приглаш
	аю всех на 
	прохожден
	ие публичны
	х подземелий и сбор 
	небесных осколков
	 в Чёрном Лесу ЛВЛ НЕ ВАЖЕН
	!\n\n\n\n	 Аббатство Зенитара   (ориг. Z
	enithar's Abbey)\n\n\n\n	 Безмолвные чертоги   (о
	риг. The Silent Halls)\n\n\n\n	Требования для
	 участия:\n\n\n\n		Глава \"Blackwood\" \n	\n	\
	n		Discord и наличие микрофон
	а\n	\n	\n		Собираемся в канале \"Мировые бос
	сы\"\n	\n
DTSTART:20220309T150000Z
ATTENDEE;CN="Dmitriyvaulin";CUTYPE=INDIVIDUAL;PARTSTAT=ACCEP
	TED:web@bandits-clan.ru
ATTENDEE;CN="DarkMonk";CUTYPE=INDIVIDUAL;PARTSTAT=ACCEPTED:w
	eb@bandits-clan.ru
END:VEVENT
END:VCALENDAR
