BEGIN:VCALENDAR
VERSION:2.0
PRODID:-//InvisionCommunity Events 4.7.14//EN
METHOD:PUBLISH
CALSCALE:GREGORIAN
REFRESH-INTERVAL:PT15M
X-PUBLISHED-TTL:PT15M
X-WR-CALNAME:The Elder Scrolls Online
NAME:The Elder Scrolls Online
BEGIN:VTIMEZONE
TZID:Europe/London
TZURL:http://tzurl.org/zoneinfo/Europe/London
X-LIC-LOCATION:Europe/London
BEGIN:DAYLIGHT
TZOFFSETFROM:+0000
TZOFFSETTO:+0100
TZNAME:BST
DTSTART:20220327T020000Z
RRULE:FREQ=YEARLY;BYMONTH=3;BYDAY=-1SU
END:DAYLIGHT
BEGIN:STANDARD
TZOFFSETFROM:+0100
TZOFFSETTO:+0000
TZNAME:GMT
DTSTART:20221030T020000Z
RRULE:FREQ=YEARLY;BYMONTH=10;BYDAY=-1SU
END:STANDARD
END:VTIMEZONE
BEGIN:VEVENT
SUMMARY:[TESO] Ветеранское испыт
	ание Этерианский архив/Aetherian Archive
DTSTAMP:20220306T205357Z
SEQUENCE:0
UID:9905-1-afb15bc42254ad5fb0481ce5e9c8144d@forum.bandits-clan.ru
ORGANIZER;CN="klerk88":web@bandits-clan.ru
DESCRIPTION:\n	В тестов
	ом режиме з
	апускаем су
	бботние вет т
	риалы с миним
	альными требов
	аниями\, если в
	ы никогда не б
	ыли на ветера
	нках\, спосо
	бны умирать
	 без горени
	я и можете 
	позволить 
	себе потра
	тить пару ча
	сов субботнег
	о времени для э
	кскурсии с ламп
	овым коллективом
	\, то вы мне подход
	ите!! Дабы у нас 
	появился шанс на не
	вероятный успех\, то н
	ам понадобятся 2 хил
	а\, 1 танк и 9 людей\, 
	которые готовы бить боссов
	 хотя бы лайт атаками!!!\n\n\n\
	n	P.S. если у вас есть опыт\, то вам
	 мы тоже рады.\n\n\n\n	P.
	P.S. во время сбора п
	риоритет отдается з
	аписавшимся игрокам.\n\n\n\n	Треб
	ования для участия:\n\n\n\n		Disco
	rd и наличие микрофона\n	\n	\n		Табард гильд
	ии Daggerfall Bandits / Bandits Clan / Bandits Force\n	\n\n
		Для подтверждения
	 участия необходимо
	 отметиться в календаре:\n
	\n\n\n		Нажать кнопку Пойду
	\n	\n	\n		Указать свою роль и ID
	 в комментариях\n	\n	\
	n		Если по каки
	м-то причинам 
	не получится п
	рийти\, отписаться в комментариях\, и
	зменив свое сообщение\n	\n
DTSTART:20220312T190000Z
ATTENDEE;CN="klerk88";CUTYPE=INDIVIDUAL;PARTSTAT=ACCEPTED:we
	b@bandits-clan.ru
ATTENDEE;CN="DarkMonk";CUTYPE=INDIVIDUAL;PARTSTAT=ACCEPTED:w
	eb@bandits-clan.ru
ATTENDEE;CN="Денмарк";CUTYPE=INDIVIDUAL;PARTSTAT=ACCE
	PTED:web@bandits-clan.ru
ATTENDEE;CN="IIersona";CUTYPE=INDIVIDUAL;PARTSTAT=ACCEPTED:w
	eb@bandits-clan.ru
ATTENDEE;CN="YarikCat";CUTYPE=INDIVIDUAL;PARTSTAT=ACCEPTED:w
	eb@bandits-clan.ru
ATTENDEE;CN="SanctoAntiquitatis";CUTYPE=INDIVIDUAL;PARTSTAT=
	ACCEPTED:web@bandits-clan.ru
ATTENDEE;CN="Znagi";CUTYPE=INDIVIDUAL;PARTSTAT=ACCEPTED:web@
	bandits-clan.ru
END:VEVENT
END:VCALENDAR
