BEGIN:VCALENDAR
VERSION:2.0
PRODID:-//InvisionCommunity Events 4.7.14//EN
METHOD:PUBLISH
CALSCALE:GREGORIAN
REFRESH-INTERVAL:PT15M
X-PUBLISHED-TTL:PT15M
X-WR-CALNAME:The Elder Scrolls Online
NAME:The Elder Scrolls Online
BEGIN:VTIMEZONE
TZID:Europe/London
TZURL:http://tzurl.org/zoneinfo/Europe/London
X-LIC-LOCATION:Europe/London
BEGIN:DAYLIGHT
TZOFFSETFROM:+0000
TZOFFSETTO:+0100
TZNAME:BST
DTSTART:20220327T020000Z
RRULE:FREQ=YEARLY;BYMONTH=3;BYDAY=-1SU
END:DAYLIGHT
BEGIN:STANDARD
TZOFFSETFROM:+0100
TZOFFSETTO:+0000
TZNAME:GMT
DTSTART:20221030T020000Z
RRULE:FREQ=YEARLY;BYMONTH=10;BYDAY=-1SU
END:STANDARD
END:VTIMEZONE
BEGIN:VEVENT
SUMMARY:[TESO] Нормальное испытание Солнеч
	ный шпиль/Sun Spire
DTSTAMP:20220306T193248Z
SEQUENCE:0
UID:9904-1-afb15bc42254ad5fb0481ce5e9c8144d@forum.bandits-clan.ru
ORGANIZER;CN="klerk88":web@bandits-clan.ru
DESCRIPTION:\n	Лучший
	 РЛ в мире соб
	ирает компанию
	 на вечернюю прог
	улку с драконами! С вас 1
	60ЧП\, табард гильдии\, 
	наличие ДЛС Elsweyr. Н
	ам понадобится пар
	а хилов\, танк и 9дд\,
	 знание тактик не обязател
	ьно\, главное желание!\n\n\n\n
		P.S. если у вас есть опыт\, то вам 
	мы тоже рады.\n\n\n\n	P.
	P.S. во время сбора п
	риоритет отдается з
	аписавшимся игрокам.\n\n\n\n	Треб
	ования для участия:\n\n\n\n		Disco
	rd и наличие микрофона\n	\n	\n		Табард гильд
	ии Daggerfall Bandits / Bandits Clan / Bandits Force\n	\n\n
		Для подтверждения
	 участия необходимо
	 отметиться в календаре:\n
	\n\n\n		Нажать кнопку Пойду
	\n	\n	\n		Указать свою роль и ID
	 в комментариях\n	\n	\
	n		Если по каки
	м-то причинам 
	не получится п
	рийти\, отписаться в комментариях\, и
	зменив свое сообщение\n	\n
DTSTART:20220310T190000Z
ATTENDEE;CN="klerk88";CUTYPE=INDIVIDUAL;PARTSTAT=ACCEPTED:we
	b@bandits-clan.ru
ATTENDEE;CN="sda1964";CUTYPE=INDIVIDUAL;PARTSTAT=ACCEPTED:we
	b@bandits-clan.ru
ATTENDEE;CN="irg2021";CUTYPE=INDIVIDUAL;PARTSTAT=ACCEPTED:we
	b@bandits-clan.ru
ATTENDEE;CN="DarkMonk";CUTYPE=INDIVIDUAL;PARTSTAT=ACCEPTED:w
	eb@bandits-clan.ru
ATTENDEE;CN="IIersona";CUTYPE=INDIVIDUAL;PARTSTAT=ACCEPTED:w
	eb@bandits-clan.ru
ATTENDEE;CN="fabr78Иван";CUTYPE=INDIVIDUAL;PARTSTAT=ACCE
	PTED:web@bandits-clan.ru
ATTENDEE;CN="YarikCat";CUTYPE=INDIVIDUAL;PARTSTAT=ACCEPTED:w
	eb@bandits-clan.ru
ATTENDEE;CN="Satius";CUTYPE=INDIVIDUAL;PARTSTAT=ACCEPTED:web
	@bandits-clan.ru
END:VEVENT
END:VCALENDAR
