BEGIN:VCALENDAR
VERSION:2.0
PRODID:-//InvisionCommunity Events 4.7.14//EN
METHOD:PUBLISH
CALSCALE:GREGORIAN
REFRESH-INTERVAL:PT15M
X-PUBLISHED-TTL:PT15M
X-WR-CALNAME:The Elder Scrolls Online
NAME:The Elder Scrolls Online
BEGIN:VTIMEZONE
TZID:Europe/London
TZURL:http://tzurl.org/zoneinfo/Europe/London
X-LIC-LOCATION:Europe/London
BEGIN:DAYLIGHT
TZOFFSETFROM:+0000
TZOFFSETTO:+0100
TZNAME:BST
DTSTART:20220327T020000Z
RRULE:FREQ=YEARLY;BYMONTH=3;BYDAY=-1SU
END:DAYLIGHT
BEGIN:STANDARD
TZOFFSETFROM:+0100
TZOFFSETTO:+0000
TZNAME:GMT
DTSTART:20221030T020000Z
RRULE:FREQ=YEARLY;BYMONTH=10;BYDAY=-1SU
END:STANDARD
END:VTIMEZONE
BEGIN:VEVENT
SUMMARY:[TESO] Рейд стати
	ка \"Давно пора\" Ветеранское испытан
	ие Каменная роща (vRG)
DTSTAMP:20220228T150125Z
SEQUENCE:0
UID:9897-1-afb15bc42254ad5fb0481ce5e9c8144d@forum.bandits-clan.ru
ORGANIZER;CN="Rogn":web@bandits-clan.ru
DESCRIPTION:\n	Кто хочет
	 принять участие в рейде
	 напишите мне в дискорд:
	 Rogn(Слава)#8703 \n\n	Ес
	ли места на вашу р
	оль будут уже заняты
	\, можно записаться в р
	езерв. \n\n\n\n	В основно
	й состав идёт набо
	р ДД. ДПС от 60К в
	 амальгаму. По воп
	росам вступления в статик пи
	сать мне в дискорд: Rogn(Сл
	ава)#8703.\n\n\n	Рейды проход
	ят каждый четверты
	й день. \n\n\n\n	Всем иметь 
	настроенные аддоны с уведомлениями:\n\n\n
	\n	1.  RaidNotifier - https://esoui.com/downloads/info1355\n\n	2. Code'
	s Combat Alerts - https://esoui.com/downloads/info1855.html\n4. Hodor Re
	flexes - https://esoui.com/downloads/info2311.html\n\n	5. Qcell's Rockgr
	ove Helper - https://esoui.com/downloads/info3060-QcellsRockgroveHelper.h
	tml\n\n
DTSTART:20220301T170000Z
DTEND:20220301T170500Z
ATTENDEE;CN="Rogn";CUTYPE=INDIVIDUAL;PARTSTAT=ACCEPTED:web@b
	andits-clan.ru
ATTENDEE;CN="LeksiRu";CUTYPE=INDIVIDUAL;PARTSTAT=ACCEPTED:we
	b@bandits-clan.ru
ATTENDEE;CN="Satius";CUTYPE=INDIVIDUAL;PARTSTAT=ACCEPTED:web
	@bandits-clan.ru
ATTENDEE;CN="dragot";CUTYPE=INDIVIDUAL;PARTSTAT=ACCEPTED:web
	@bandits-clan.ru
ATTENDEE;CN="Dezmonteri";CUTYPE=INDIVIDUAL;PARTSTAT=ACCEPTED
	:web@bandits-clan.ru
ATTENDEE;CN="WWKaiser";CUTYPE=INDIVIDUAL;PARTSTAT=ACCEPTED:w
	eb@bandits-clan.ru
ATTENDEE;CN="Grazias";CUTYPE=INDIVIDUAL;PARTSTAT=ACCEPTED:we
	b@bandits-clan.ru
END:VEVENT
END:VCALENDAR
