BEGIN:VCALENDAR
VERSION:2.0
PRODID:-//InvisionCommunity Events 4.7.14//EN
METHOD:PUBLISH
CALSCALE:GREGORIAN
REFRESH-INTERVAL:PT15M
X-PUBLISHED-TTL:PT15M
X-WR-CALNAME:The Elder Scrolls Online
NAME:The Elder Scrolls Online
BEGIN:VTIMEZONE
TZID:Europe/London
TZURL:http://tzurl.org/zoneinfo/Europe/London
X-LIC-LOCATION:Europe/London
BEGIN:DAYLIGHT
TZOFFSETFROM:+0000
TZOFFSETTO:+0100
TZNAME:BST
DTSTART:20220327T020000Z
RRULE:FREQ=YEARLY;BYMONTH=3;BYDAY=-1SU
END:DAYLIGHT
BEGIN:STANDARD
TZOFFSETFROM:+0100
TZOFFSETTO:+0000
TZNAME:GMT
DTSTART:20221030T020000Z
RRULE:FREQ=YEARLY;BYMONTH=10;BYDAY=-1SU
END:STANDARD
END:VTIMEZONE
BEGIN:VEVENT
SUMMARY:[TESO] Рейд стати
	ка \"Давно пора\" Ветеранское испытание 
	Солнечный Шпиль(vSS)
DTSTAMP:20220224T173209Z
SEQUENCE:0
UID:9876-1-afb15bc42254ad5fb0481ce5e9c8144d@forum.bandits-clan.ru
ORGANIZER;CN="Rogn":web@bandits-clan.ru
DESCRIPTION:\n	Рейд статика \"Давн
	о пора\"\n\n\n\n	Кто хоче
	т принять участие писать мне
	 в дискорд: Rogn(Слава)#8703\n\
	n\n\n	В основной соста
	в идёт набор ДД. Д
	ПС от 60К в амал
	ьгаму. По вопросам в
	ступления в статик писать мн
	е в дискорд: Rogn(Слава)#870
	3.\n\n\n	Рейды проходят
	 каждый четвертый д
	ень. \n\n\n\n	Осно
	вная цель ст
	атика на данн
	ый момент - 
	одеваем са
	ппорт классы
	. В солнечном
	 шпиле выбив
	аем соверш
	енную йолку
	 танкам. Посл
	е будем ходи
	ть по триалам
	 необходимым хи
	лам (далее в пла
	нах Каменная Р
	оща и Эгида К
	ин). Так же
	 будут уч
	итываться
	 пожелани
	я всего со
	става отн
	осительно
	 закрытия 
	других тр
	иалов в за
	висимости от акту
	альности и необходи
	мости выбиваемых т
	ам сетов. \n\n\n\n	
	В этот раз б
	удем отраба
	тывать механ
	ики драконов и учить
	ся их проходить с пе
	рвого раза без вайпов. \n\n\n\n	Нео
	бходимые аддоны:1. RaidNotifier - https://esoui.com/downl
	oads/info1355\n\n	2. Code's Combat Alerts - https://esoui.com/downloads/
	info1855.html3. HowToSunspire - https://esoui.com/downloads/info2430-How
	ToSunspire.html\n\n	4. Hodor Reflexes - https://esoui.com/downloads/info
	2311.html\n\n
DTSTART:20220225T170000Z
DTEND:20220225T170500Z
ATTENDEE;CN="ARTmovie";CUTYPE=INDIVIDUAL;PARTSTAT=ACCEPTED:w
	eb@bandits-clan.ru
ATTENDEE;CN="LeksiRu";CUTYPE=INDIVIDUAL;PARTSTAT=ACCEPTED:we
	b@bandits-clan.ru
ATTENDEE;CN="WWKaiser";CUTYPE=INDIVIDUAL;PARTSTAT=ACCEPTED:w
	eb@bandits-clan.ru
ATTENDEE;CN="SgtCoon";CUTYPE=INDIVIDUAL;PARTSTAT=ACCEPTED:we
	b@bandits-clan.ru
ATTENDEE;CN="dragot";CUTYPE=INDIVIDUAL;PARTSTAT=ACCEPTED:web
	@bandits-clan.ru
ATTENDEE;CN="Angry_Duck";CUTYPE=INDIVIDUAL;PARTSTAT=ACCEPTED
	:web@bandits-clan.ru
ATTENDEE;CN="Orfice";CUTYPE=INDIVIDUAL;PARTSTAT=ACCEPTED:web
	@bandits-clan.ru
ATTENDEE;CN="Satius";CUTYPE=INDIVIDUAL;PARTSTAT=ACCEPTED:web
	@bandits-clan.ru
ATTENDEE;CN="Денмарк";CUTYPE=INDIVIDUAL;PARTSTAT=ACCE
	PTED:web@bandits-clan.ru
ATTENDEE;CN="Semeckiy ";CUTYPE=INDIVIDUAL;PARTSTAT=ACCEPTED:
	web@bandits-clan.ru
ATTENDEE;CN="Dezmonteri";CUTYPE=INDIVIDUAL;PARTSTAT=ACCEPTED
	:web@bandits-clan.ru
ATTENDEE;CN="Dmitriyvaulin";CUTYPE=INDIVIDUAL;PARTSTAT=ACCEP
	TED:web@bandits-clan.ru
END:VEVENT
END:VCALENDAR
