BEGIN:VCALENDAR
VERSION:2.0
PRODID:-//InvisionCommunity Events 4.7.14//EN
METHOD:PUBLISH
CALSCALE:GREGORIAN
REFRESH-INTERVAL:PT15M
X-PUBLISHED-TTL:PT15M
X-WR-CALNAME:The Elder Scrolls Online
NAME:The Elder Scrolls Online
BEGIN:VTIMEZONE
TZID:Europe/London
TZURL:http://tzurl.org/zoneinfo/Europe/London
X-LIC-LOCATION:Europe/London
BEGIN:DAYLIGHT
TZOFFSETFROM:+0000
TZOFFSETTO:+0100
TZNAME:BST
DTSTART:20220327T020000Z
RRULE:FREQ=YEARLY;BYMONTH=3;BYDAY=-1SU
END:DAYLIGHT
BEGIN:STANDARD
TZOFFSETFROM:+0100
TZOFFSETTO:+0000
TZNAME:GMT
DTSTART:20221030T020000Z
RRULE:FREQ=YEARLY;BYMONTH=10;BYDAY=-1SU
END:STANDARD
END:VTIMEZONE
BEGIN:VEVENT
SUMMARY:[TESO] обучающее испытание
	 вет Клаудрест (Cloudrest) +1 Релеквин
DTSTAMP:20220221T170321Z
SEQUENCE:0
UID:9870-1-afb15bc42254ad5fb0481ce5e9c8144d@forum.bandits-clan.ru
ORGANIZER;CN="Semeckiy ":web@bandits-clan.ru
DESCRIPTION:\n	Приглаша
	ю пройти обучающ
	ий рейд в ветеранский К
	Р + Релеквин. Требуются
	 3 танка\, 2 хила\, 7 дд.\n\
	n	Минимальные требов
	ания для дд: дпс от 
	60к в амальгаму\n\
	n	Всем иметь ак
	туальные сеты
	 для пве контента\, н
	ормальные банки\,
	 уверенное прохожд
	ение вКР +0.\n\n	Пр
	иветствуется
	 знание своей
	 роли\, просм
	отр видео и
	ли текстов
	ых гайдов для 
	понимания базов
	ых механик и сп
	особов реагиро
	вания на них.\n\n	Всем и
	меть настроенные аддоны с уведомлениями
	:\n\nhttps://www.esoui.com/downloads/info2055-OpenGlazaCloudrestAssistant.
	html\nhttps://www.esoui.com/downloads/info1355-RaidNotifierUpdated.html\nh
	ttps://www.esoui.com/downloads/info1855-CodesCombatAlerts.html\n\n\n\n	
	Обязательно п
	рожимайте кноп
	очку \"пойду\" для
	 подтверждения уч
	астия\, даже если 
	записалось уже 12 че
	ловек\, иногда кто-то 
	не может пойти\n\n	Сбор в
	 дискорде за 30 минут
	 до события!\n\n\n	
	По составу г
	руппы и итог
	ам убиения 
	первых двух миников мо
	жет быть принято решение о прохождении 
	вКР+0!\n\n
DTSTART:20220223T180000Z
ATTENDEE;CN="Semeckiy ";CUTYPE=INDIVIDUAL;PARTSTAT=ACCEPTED:
	web@bandits-clan.ru
ATTENDEE;CN="Simvol";CUTYPE=INDIVIDUAL;PARTSTAT=ACCEPTED:web
	@bandits-clan.ru
ATTENDEE;CN="WWKaiser";CUTYPE=INDIVIDUAL;PARTSTAT=ACCEPTED:w
	eb@bandits-clan.ru
ATTENDEE;CN="Orfice";CUTYPE=INDIVIDUAL;PARTSTAT=ACCEPTED:web
	@bandits-clan.ru
ATTENDEE;CN="Shtille";CUTYPE=INDIVIDUAL;PARTSTAT=ACCEPTED:we
	b@bandits-clan.ru
ATTENDEE;CN="Tirnanok";CUTYPE=INDIVIDUAL;PARTSTAT=ACCEPTED:w
	eb@bandits-clan.ru
ATTENDEE;CN="Auzdor";CUTYPE=INDIVIDUAL;PARTSTAT=ACCEPTED:web
	@bandits-clan.ru
ATTENDEE;CN="LeksiRu";CUTYPE=INDIVIDUAL;PARTSTAT=ACCEPTED:we
	b@bandits-clan.ru
ATTENDEE;CN="Денмарк";CUTYPE=INDIVIDUAL;PARTSTAT=ACCE
	PTED:web@bandits-clan.ru
ATTENDEE;CN="ARTmovie";CUTYPE=INDIVIDUAL;PARTSTAT=ACCEPTED:w
	eb@bandits-clan.ru
ATTENDEE;CN="@Yoldar";CUTYPE=INDIVIDUAL;PARTSTAT=ACCEPTED:we
	b@bandits-clan.ru
ATTENDEE;CN="Оксана";CUTYPE=INDIVIDUAL;PARTSTAT=ACCEPT
	ED:web@bandits-clan.ru
ATTENDEE;CN="Dmitriyvaulin";CUTYPE=INDIVIDUAL;PARTSTAT=ACCEP
	TED:web@bandits-clan.ru
END:VEVENT
END:VCALENDAR
