BEGIN:VCALENDAR
VERSION:2.0
PRODID:-//InvisionCommunity Events 4.7.14//EN
METHOD:PUBLISH
CALSCALE:GREGORIAN
REFRESH-INTERVAL:PT15M
X-PUBLISHED-TTL:PT15M
X-WR-CALNAME:The Elder Scrolls Online
NAME:The Elder Scrolls Online
BEGIN:VTIMEZONE
TZID:Europe/London
TZURL:http://tzurl.org/zoneinfo/Europe/London
X-LIC-LOCATION:Europe/London
BEGIN:DAYLIGHT
TZOFFSETFROM:+0000
TZOFFSETTO:+0100
TZNAME:BST
DTSTART:20220327T020000Z
RRULE:FREQ=YEARLY;BYMONTH=3;BYDAY=-1SU
END:DAYLIGHT
BEGIN:STANDARD
TZOFFSETFROM:+0100
TZOFFSETTO:+0000
TZNAME:GMT
DTSTART:20221030T020000Z
RRULE:FREQ=YEARLY;BYMONTH=10;BYDAY=-1SU
END:STANDARD
END:VTIMEZONE
BEGIN:VEVENT
SUMMARY:[TESO] Публичные подземелья Эбонх
	артского Пакта
DTSTAMP:20220217T121000Z
SEQUENCE:0
UID:9857-1-afb15bc42254ad5fb0481ce5e9c8144d@forum.bandits-clan.ru
ORGANIZER;CN="Dmitriyvaulin":web@bandits-clan.ru
DESCRIPTION:\n	Приглаш
	аю всех на
	 прохождение пу
	бличных подземелий в 
	Эбонхартском Пакте ЛВЛ НЕ ВАЖЕ
	Н!\n\n\n\n	 Дешаан\n\n\n\n	 Тенетопь\n\n\n\n
		 Истмарк\n\n\n\n	 Рифт\n\n\n\n	 Стоун
	фолз\n\n\n\n	 \n\n\n\n	Требования для уча
	стия:\n\n\n\n		Discord и наличие м
	икрофона\n	\n\n	Собираемся в канале \
	"Мировые боссы\"\n\n
DTSTART:20220219T150000Z
ATTENDEE;CN="Grazias";CUTYPE=INDIVIDUAL;PARTSTAT=ACCEPTED:we
	b@bandits-clan.ru
ATTENDEE;CN="Dmitriyvaulin";CUTYPE=INDIVIDUAL;PARTSTAT=ACCEP
	TED:web@bandits-clan.ru
ATTENDEE;CN="BaraBascha";CUTYPE=INDIVIDUAL;PARTSTAT=ACCEPTED
	:web@bandits-clan.ru
END:VEVENT
END:VCALENDAR
