BEGIN:VCALENDAR
VERSION:2.0
PRODID:-//InvisionCommunity Events 4.7.14//EN
METHOD:PUBLISH
CALSCALE:GREGORIAN
REFRESH-INTERVAL:PT15M
X-PUBLISHED-TTL:PT15M
X-WR-CALNAME:The Elder Scrolls Online
NAME:The Elder Scrolls Online
BEGIN:VTIMEZONE
TZID:Europe/London
TZURL:http://tzurl.org/zoneinfo/Europe/London
X-LIC-LOCATION:Europe/London
BEGIN:DAYLIGHT
TZOFFSETFROM:+0000
TZOFFSETTO:+0100
TZNAME:BST
DTSTART:20220327T020000Z
RRULE:FREQ=YEARLY;BYMONTH=3;BYDAY=-1SU
END:DAYLIGHT
BEGIN:STANDARD
TZOFFSETFROM:+0100
TZOFFSETTO:+0000
TZNAME:GMT
DTSTART:20221030T020000Z
RRULE:FREQ=YEARLY;BYMONTH=10;BYDAY=-1SU
END:STANDARD
END:VTIMEZONE
BEGIN:VEVENT
SUMMARY:[TESO] Рейд стати
	ка \"Давно пора\" Ветеранское испытание 
	Солнечный Шпиль(vSS)
DTSTAMP:20220214T183609Z
SEQUENCE:0
UID:9853-1-afb15bc42254ad5fb0481ce5e9c8144d@forum.bandits-clan.ru
ORGANIZER;CN="Rogn":web@bandits-clan.ru
DESCRIPTION:\n	Рейд статика \"Давн
	о пора\"\n\n\n\n	В основной
	 состав идёт набор
	 ДД. ДПС от 60К в а
	мальгаму. По вопр
	осам вступления в статик пис
	ать мне в дискорд: Rogn(Сла
	ва)#8703.\n\n\n	Рейды проходя
	т каждый четвертый 
	день в 21:00 (время
	 не окончател
	ьное\, возмож
	но будем пров
	одить раньше\
	, в зависимости 
	от часовых пояс
	ов людей и их гот
	овности быть в это 
	время)\, следующий рейд пос
	ле этого в понедельник 21.02.202
	2 так же в 21:00.\n\n\n\n
		Основная це
	ль статика на
	 данный момен
	т - одеваем с
	аппорт класс
	ы. В солнечн
	ом шпиле выб
	иваем сове
	ршенную йол
	ку танкам. П
	осле будем 
	ходить по три
	алам необходи
	мым хилам (да
	лее в планах 
	каменная ро
	ща). Так же
	 будут уч
	итываться
	 пожелани
	я всего со
	става отн
	осительно
	 закрытия 
	других тр
	иалов в за
	висимости от акту
	альности и необходи
	мости выбиваемых т
	ам сетов. \n\n\n\n	
	В этот раз б
	удем отраба
	тывать механ
	ики драконов и учиться их про
	ходить с первого раза без вайпов. \n\n
DTSTART:20220217T180000Z
DTEND:20220217T180500Z
ATTENDEE;CN="Rogn";CUTYPE=INDIVIDUAL;PARTSTAT=ACCEPTED:web@b
	andits-clan.ru
ATTENDEE;CN="Денмарк";CUTYPE=INDIVIDUAL;PARTSTAT=ACCE
	PTED:web@bandits-clan.ru
ATTENDEE;CN="SgtCoon";CUTYPE=INDIVIDUAL;PARTSTAT=ACCEPTED:we
	b@bandits-clan.ru
ATTENDEE;CN="Fidonoff";CUTYPE=INDIVIDUAL;PARTSTAT=ACCEPTED:w
	eb@bandits-clan.ru
ATTENDEE;CN="WWKaiser";CUTYPE=INDIVIDUAL;PARTSTAT=ACCEPTED:w
	eb@bandits-clan.ru
ATTENDEE;CN="Satius";CUTYPE=INDIVIDUAL;PARTSTAT=ACCEPTED:web
	@bandits-clan.ru
ATTENDEE;CN="Semeckiy ";CUTYPE=INDIVIDUAL;PARTSTAT=ACCEPTED:
	web@bandits-clan.ru
ATTENDEE;CN="Petruharaspizday";CUTYPE=INDIVIDUAL;PARTSTAT=AC
	CEPTED:web@bandits-clan.ru
ATTENDEE;CN="LeksiRu";CUTYPE=INDIVIDUAL;PARTSTAT=ACCEPTED:we
	b@bandits-clan.ru
ATTENDEE;CN="Magistr";CUTYPE=INDIVIDUAL;PARTSTAT=ACCEPTED:we
	b@bandits-clan.ru
ATTENDEE;CN="skliff13";CUTYPE=INDIVIDUAL;PARTSTAT=ACCEPTED:w
	eb@bandits-clan.ru
ATTENDEE;CN="Shepsteijens";CUTYPE=INDIVIDUAL;PARTSTAT=ACCEPT
	ED:web@bandits-clan.ru
ATTENDEE;CN="Dmitriyvaulin";CUTYPE=INDIVIDUAL;PARTSTAT=ACCEP
	TED:web@bandits-clan.ru
END:VEVENT
END:VCALENDAR
