BEGIN:VCALENDAR
VERSION:2.0
PRODID:-//InvisionCommunity Events 4.7.14//EN
METHOD:PUBLISH
CALSCALE:GREGORIAN
REFRESH-INTERVAL:PT15M
X-PUBLISHED-TTL:PT15M
X-WR-CALNAME:The Elder Scrolls Online
NAME:The Elder Scrolls Online
BEGIN:VTIMEZONE
TZID:Europe/London
TZURL:http://tzurl.org/zoneinfo/Europe/London
X-LIC-LOCATION:Europe/London
BEGIN:DAYLIGHT
TZOFFSETFROM:+0000
TZOFFSETTO:+0100
TZNAME:BST
DTSTART:20220327T020000Z
RRULE:FREQ=YEARLY;BYMONTH=3;BYDAY=-1SU
END:DAYLIGHT
BEGIN:STANDARD
TZOFFSETFROM:+0100
TZOFFSETTO:+0000
TZNAME:GMT
DTSTART:20221030T020000Z
RRULE:FREQ=YEARLY;BYMONTH=10;BYDAY=-1SU
END:STANDARD
END:VTIMEZONE
BEGIN:VEVENT
SUMMARY:[TESO] Небесные
	 осколки и Мировые боссы Проклятия Хь
	ю и Золотого берега
DTSTAMP:20220128T203918Z
SEQUENCE:0
UID:9793-1-afb15bc42254ad5fb0481ce5e9c8144d@forum.bandits-clan.ru
ORGANIZER;CN="Dmitriyvaulin":web@bandits-clan.ru
DESCRIPTION:\n	Приглаша
	ю всех на пр
	охождение 
	мировых бос
	сов и сбор н
	ебесных оскол
	ков в локациях: Прок
	лятие Хью и Золотой берег. Л
	ВЛ НЕ ВАЖЕН!\n\n\n\n	Проклятие Хью:\n\
	n\n\n	 Ко Эстаран (ориг.Ko Estaran)\n\n\n\n
		 Бухта рабов (ориг.Thrall Cove)\n\n\
	n\n	Золотой Берег:\n\n\n\n	 Арена Кватча 
	  (ориг. Kvatch Arena)\n\n\n\n	 Каприз Трибуна 
	  (ориг. Tribune's Folly)\n\n\n\n	Требования дл
	я участия:\n\n\n\n		DLC \"Темн
	ое братство\" и \"Гильдия воров
	\" или подписка \n	\n	\n		Di
	scord и наличие микро
	фона (Собираемся в дискорд канале 
	\"Мировые боссы\")\n	\n
DTSTART:20220129T130000Z
ATTENDEE;CN="Dmitriyvaulin";CUTYPE=INDIVIDUAL;PARTSTAT=ACCEP
	TED:web@bandits-clan.ru
ATTENDEE;CN="BaraBascha";CUTYPE=INDIVIDUAL;PARTSTAT=ACCEPTED
	:web@bandits-clan.ru
ATTENDEE;CN="Aryusik";CUTYPE=INDIVIDUAL;PARTSTAT=ACCEPTED:we
	b@bandits-clan.ru
END:VEVENT
END:VCALENDAR
