BEGIN:VCALENDAR
VERSION:2.0
PRODID:-//InvisionCommunity Events 4.7.14//EN
METHOD:PUBLISH
CALSCALE:GREGORIAN
REFRESH-INTERVAL:PT15M
X-PUBLISHED-TTL:PT15M
X-WR-CALNAME:The Elder Scrolls Online
NAME:The Elder Scrolls Online
BEGIN:VTIMEZONE
TZID:Europe/London
TZURL:http://tzurl.org/zoneinfo/Europe/London
X-LIC-LOCATION:Europe/London
BEGIN:DAYLIGHT
TZOFFSETFROM:+0000
TZOFFSETTO:+0100
TZNAME:BST
DTSTART:20220327T020000Z
RRULE:FREQ=YEARLY;BYMONTH=3;BYDAY=-1SU
END:DAYLIGHT
BEGIN:STANDARD
TZOFFSETFROM:+0100
TZOFFSETTO:+0000
TZNAME:GMT
DTSTART:20221030T020000Z
RRULE:FREQ=YEARLY;BYMONTH=10;BYDAY=-1SU
END:STANDARD
END:VTIMEZONE
BEGIN:VEVENT
SUMMARY:[TESO] обучающее испытание вет К
	лаудрест (Cloudrest)
DTSTAMP:20220127T195858Z
SEQUENCE:0
UID:9791-1-afb15bc42254ad5fb0481ce5e9c8144d@forum.bandits-clan.ru
ORGANIZER;CN="Semeckiy ":web@bandits-clan.ru
DESCRIPTION:\n	Приглаш
	аю пройти обучающий 
	рейд в ветеранский КР. Т
	ребуются 2 танка\, 2 хила
	\, 8 дд.\n\n	Минимальные тр
	ебования для дд: дп
	с от 60к в амальгаму
	\n\n	Всем иметь актуа
	льные сеты для п
	ве контента\, нор
	мальные банки.\n
	\n	Приветствуе
	тся знание св
	оей роли\, п
	росмотр ви
	део или те
	кстовых га
	йдов для понима
	ния базовых мех
	аник и способов 
	реагирования на н
	их.\n\n	Всем иметь настроенные а
	ддоны с уведомлениями:\n\nhttps://www.esoui.com/downloa
	ds/info2055-OpenGlazaCloudrestAssistant.html\nhttps://www.esoui.com/downlo
	ads/info1355-RaidNotifierUpdated.html\nhttps://www.esoui.com/downloads/inf
	o1855-CodesCombatAlerts.html\nhttps://www.esoui.com/downloads/info2834-Ody
	SupportIcons-GroupRoleIconsMore.html\n\n\n\n	Об
	язательно прож
	имайте кнопочк
	у \"пойду\" для по
	дтверждения участ
	ия\, даже если запис
	алось уже 12 человек\,
	 иногда кто-то не мож
	ет придти.\n\n	Сбор в дискорде за 30 
	минут до события!\n\n
DTSTART:20220129T140000Z
ATTENDEE;CN="Semeckiy ";CUTYPE=INDIVIDUAL;PARTSTAT=ACCEPTED:
	web@bandits-clan.ru
ATTENDEE;CN="skliff13";CUTYPE=INDIVIDUAL;PARTSTAT=ACCEPTED:w
	eb@bandits-clan.ru
ATTENDEE;CN="WWKaiser";CUTYPE=INDIVIDUAL;PARTSTAT=ACCEPTED:w
	eb@bandits-clan.ru
ATTENDEE;CN="Shepsteijens";CUTYPE=INDIVIDUAL;PARTSTAT=ACCEPT
	ED:web@bandits-clan.ru
ATTENDEE;CN="Оксана";CUTYPE=INDIVIDUAL;PARTSTAT=ACCEPT
	ED:web@bandits-clan.ru
ATTENDEE;CN="Rogn";CUTYPE=INDIVIDUAL;PARTSTAT=ACCEPTED:web@b
	andits-clan.ru
ATTENDEE;CN="Dmitriyvaulin";CUTYPE=INDIVIDUAL;PARTSTAT=ACCEP
	TED:web@bandits-clan.ru
ATTENDEE;CN="Oven";CUTYPE=INDIVIDUAL;PARTSTAT=ACCEPTED:web@b
	andits-clan.ru
ATTENDEE;CN="Simvol";CUTYPE=INDIVIDUAL;PARTSTAT=ACCEPTED:web
	@bandits-clan.ru
ATTENDEE;CN="Znagi";CUTYPE=INDIVIDUAL;PARTSTAT=ACCEPTED:web@
	bandits-clan.ru
END:VEVENT
END:VCALENDAR
