BEGIN:VCALENDAR
VERSION:2.0
PRODID:-//InvisionCommunity Events 4.7.14//EN
METHOD:PUBLISH
CALSCALE:GREGORIAN
REFRESH-INTERVAL:PT15M
X-PUBLISHED-TTL:PT15M
X-WR-CALNAME:The Elder Scrolls Online
NAME:The Elder Scrolls Online
BEGIN:VTIMEZONE
TZID:Europe/London
TZURL:http://tzurl.org/zoneinfo/Europe/London
X-LIC-LOCATION:Europe/London
BEGIN:DAYLIGHT
TZOFFSETFROM:+0000
TZOFFSETTO:+0100
TZNAME:BST
DTSTART:20220327T020000Z
RRULE:FREQ=YEARLY;BYMONTH=3;BYDAY=-1SU
END:DAYLIGHT
BEGIN:STANDARD
TZOFFSETFROM:+0100
TZOFFSETTO:+0000
TZNAME:GMT
DTSTART:20221030T020000Z
RRULE:FREQ=YEARLY;BYMONTH=10;BYDAY=-1SU
END:STANDARD
END:VTIMEZONE
BEGIN:VEVENT
SUMMARY:[TESO] Ветеранское испытание Цита
	дель Хел Ра (vHRC)
DTSTAMP:20220124T121706Z
SEQUENCE:0
UID:9786-1-afb15bc42254ad5fb0481ce5e9c8144d@forum.bandits-clan.ru
ORGANIZER;CN="Kubik":web@bandits-clan.ru
DESCRIPTION:\n	Приглаш
	аю всех желающих 
	пройти испытание Цитадель
	 Хел Ра вет.\n\n\n\n	Необходимый соста
	в:\n\n\n\n		1 Танка\n	\n	\n		2 Хилера\n	\n	\n	
		9 ДД\n	\n\n	Обязательные аддоны:\n\n\n\n		Bandits Us
	er Interface\n	\n\n	Требования для участия
	:\n\n\n\n		Звание Raider/Рейдер\n	\n	\n		Disc
	ord и наличие микрофона\n	\n	\n		Табард гиль
	дии Daggerfall Bandits / Bandits Clan\n	\n\n	
	Для подтверждения
	 участия необходимо
	 отметиться в календаре:\n
	\n\n\n		Нажать кнопку Пойду
	\n	\n	\n		Указать свою роль и ID
	 в комментариях\n	\n	\
	n		Если по каки
	м-то причинам 
	не получится п
	рийти\, отписаться в комментариях\, и
	зменив свое сообщение\n	\n
DTSTART:20220130T180000Z
DTEND:20220130T180500Z
ATTENDEE;CN="Kubik";CUTYPE=INDIVIDUAL;PARTSTAT=ACCEPTED:web@
	bandits-clan.ru
ATTENDEE;CN="Copperfild";CUTYPE=INDIVIDUAL;PARTSTAT=ACCEPTED
	:web@bandits-clan.ru
ATTENDEE;CN="Znagi";CUTYPE=INDIVIDUAL;PARTSTAT=ACCEPTED:web@
	bandits-clan.ru
END:VEVENT
END:VCALENDAR
