BEGIN:VCALENDAR
VERSION:2.0
PRODID:-//InvisionCommunity Events 4.7.14//EN
METHOD:PUBLISH
CALSCALE:GREGORIAN
REFRESH-INTERVAL:PT15M
X-PUBLISHED-TTL:PT15M
X-WR-CALNAME:The Elder Scrolls Online
NAME:The Elder Scrolls Online
BEGIN:VTIMEZONE
TZID:Europe/London
TZURL:http://tzurl.org/zoneinfo/Europe/London
X-LIC-LOCATION:Europe/London
BEGIN:DAYLIGHT
TZOFFSETFROM:+0000
TZOFFSETTO:+0100
TZNAME:BST
DTSTART:20220327T020000Z
RRULE:FREQ=YEARLY;BYMONTH=3;BYDAY=-1SU
END:DAYLIGHT
BEGIN:STANDARD
TZOFFSETFROM:+0100
TZOFFSETTO:+0000
TZNAME:GMT
DTSTART:20221030T020000Z
RRULE:FREQ=YEARLY;BYMONTH=10;BYDAY=-1SU
END:STANDARD
END:VTIMEZONE
BEGIN:VEVENT
SUMMARY:[TESO] Обучение тактикам Ветеранск
	их данжей(vDungeon)
DTSTAMP:20220124T112805Z
SEQUENCE:0
UID:9780-1-afb15bc42254ad5fb0481ce5e9c8144d@forum.bandits-clan.ru
ORGANIZER;CN="Magistr":web@bandits-clan.ru
DESCRIPTION:\n	наличие всех дл
	с или подписки\n\n\n\
	n	 Если вы записал
	ись\, но не пришл
	и до начала событ
	ия\, то ваше место мо
	жет занять любой же
	лающий из чата.\n\
	n\n\n	Осуществля
	ем в первую о
	чередь обуче
	ние тактикам в
	ет длс данжей\
	,далее фарм а
	чивок мотивов и п
	рочее\,в зависимости 
	от прогресса собранной группы
	\n\n\n\n	Требования:\n\n\n\n		160+ Очков Г
	ероя\n	\n	\n		DLC  или подписка ESO+\n	\n	\n		Di
	scord\n	\n	\n		Табард гильдии\n	\n\n	Состав:\n\n\
	n\n		1 танк\n	\n	\n		1 лекаря\n	\n	\n		2 бойцов\n	\n
DTSTART:20220126T160000Z
DTEND:20220126T160500Z
ATTENDEE;CN="Magistr";CUTYPE=INDIVIDUAL;PARTSTAT=ACCEPTED:we
	b@bandits-clan.ru
ATTENDEE;CN="DarkMonk";CUTYPE=INDIVIDUAL;PARTSTAT=ACCEPTED:w
	eb@bandits-clan.ru
END:VEVENT
END:VCALENDAR
