BEGIN:VCALENDAR
VERSION:2.0
PRODID:-//InvisionCommunity Events 4.7.14//EN
METHOD:PUBLISH
CALSCALE:GREGORIAN
REFRESH-INTERVAL:PT15M
X-PUBLISHED-TTL:PT15M
X-WR-CALNAME:The Elder Scrolls Online
NAME:The Elder Scrolls Online
BEGIN:VTIMEZONE
TZID:Europe/London
TZURL:http://tzurl.org/zoneinfo/Europe/London
X-LIC-LOCATION:Europe/London
BEGIN:DAYLIGHT
TZOFFSETFROM:+0000
TZOFFSETTO:+0100
TZNAME:BST
DTSTART:20220327T020000Z
RRULE:FREQ=YEARLY;BYMONTH=3;BYDAY=-1SU
END:DAYLIGHT
BEGIN:STANDARD
TZOFFSETFROM:+0100
TZOFFSETTO:+0000
TZNAME:GMT
DTSTART:20221030T020000Z
RRULE:FREQ=YEARLY;BYMONTH=10;BYDAY=-1SU
END:STANDARD
END:VTIMEZONE
BEGIN:VEVENT
SUMMARY:[TESO] Мировые боссы 
	и Публичные подземелья Чёрного Леса
DTSTAMP:20220124T110543Z
SEQUENCE:0
UID:9779-1-afb15bc42254ad5fb0481ce5e9c8144d@forum.bandits-clan.ru
ORGANIZER;CN="Dmitriyvaulin":web@bandits-clan.ru
DESCRIPTION:\n	Приглаш
	аю всех на 
	прохождени
	е публичных подзем
	елий и мировых босс
	ов в Чёрном Лесу ЛВЛ НЕ В
	АЖЕН!\n\n\n\n	 Аббатство Зенитара   (ори
	г. Zenithar's Abbey)\n\n\n\n	 Безмолвные чертог
	и   (ориг. The Silent Halls)\n\n\n\n	
	 Пруд Старого Смертожаба   (ориг. Ol
	d Deathwart's Pond)\n\n\n\n	 Раскопки Шардия   (ориг
	. Shardius's Excavation)\n\n\n\n	 Разрушенный за
	нмир   (ориг. The Shattered Xanmeer)\n\
	n\n\n	 Ритуальный круг сул-зан   (ориг. S
	ul-Xan Ritual Site)\n\n\n\n	 Военны
	й лагерь племени Жабьего Языка   (ори
	г. Toad-Tongue War Camp)\n\n\n\n	 Лагуна Зимхока   
	(ориг. Xeemhok's Lagoon)\n\n\n\n	Требования 
	для участия:\n\n\n\n		Глава \"Blackwood\" \n	\
	n	\n		Discord и наличие микроф
	она\n	\n\n	Собираемся в канале \"Мировые бос
	сы\"\n\n
DTSTART:20220126T150000Z
ATTENDEE;CN="Dmitriyvaulin";CUTYPE=INDIVIDUAL;PARTSTAT=ACCEP
	TED:web@bandits-clan.ru
ATTENDEE;CN="LeksiRu";CUTYPE=INDIVIDUAL;PARTSTAT=ACCEPTED:we
	b@bandits-clan.ru
END:VEVENT
END:VCALENDAR
