BEGIN:VCALENDAR
VERSION:2.0
PRODID:-//InvisionCommunity Events 4.7.14//EN
METHOD:PUBLISH
CALSCALE:GREGORIAN
REFRESH-INTERVAL:PT15M
X-PUBLISHED-TTL:PT15M
X-WR-CALNAME:The Elder Scrolls Online
NAME:The Elder Scrolls Online
BEGIN:VTIMEZONE
TZID:Europe/London
TZURL:http://tzurl.org/zoneinfo/Europe/London
X-LIC-LOCATION:Europe/London
BEGIN:DAYLIGHT
TZOFFSETFROM:+0000
TZOFFSETTO:+0100
TZNAME:BST
DTSTART:20220327T020000Z
RRULE:FREQ=YEARLY;BYMONTH=3;BYDAY=-1SU
END:DAYLIGHT
BEGIN:STANDARD
TZOFFSETFROM:+0100
TZOFFSETTO:+0000
TZNAME:GMT
DTSTART:20221030T020000Z
RRULE:FREQ=YEARLY;BYMONTH=10;BYDAY=-1SU
END:STANDARD
END:VTIMEZONE
BEGIN:VEVENT
SUMMARY:[TESO] Ветеранское испытание К
	аменная Роща (vRG)
DTSTAMP:20220110T112130Z
SEQUENCE:0
UID:9736-1-afb15bc42254ad5fb0481ce5e9c8144d@forum.bandits-clan.ru
ORGANIZER;CN="Magistr":web@bandits-clan.ru
DESCRIPTION:\n	Требования: Общи
	е требования - от 800 ОГ\
	, глава Черный лес ДД -
	 дпс от 65к в рейдового ат
	ронаха 21кк (амальгаму)\
	n\n\n\n	Танки: иметь акту
	альные сеты (Йолнакрин\, ПА\
	, Галенве\, Ворм и др.)\n\n
	\n\n	Хилы:СПК\,Говорящий
	 с камнем\,Авантюрист\,Йорв
	ульд\n\n\n\n	ДД:метовые сетапы 
	и ДПС 65-70К На Атронахе\n\n\n\n	Всем иметь 
	аддоны Qcell's Rockgrove Helper\, Raid Notifier и Hodor Reflexes!\n
	\n\n\n		2 танка \n	\n	\n		2 хиллера\n	\n	\n		8 ддшек\n	\
	n
DTSTART:20220115T130000Z
DTEND:20220115T130500Z
ATTENDEE;CN="Magistr";CUTYPE=INDIVIDUAL;PARTSTAT=ACCEPTED:we
	b@bandits-clan.ru
ATTENDEE;CN="Copperfild";CUTYPE=INDIVIDUAL;PARTSTAT=ACCEPTED
	:web@bandits-clan.ru
ATTENDEE;CN="Rogn";CUTYPE=INDIVIDUAL;PARTSTAT=ACCEPTED:web@b
	andits-clan.ru
ATTENDEE;CN="Shepsteijens";CUTYPE=INDIVIDUAL;PARTSTAT=ACCEPT
	ED:web@bandits-clan.ru
ATTENDEE;CN="redxles";CUTYPE=INDIVIDUAL;PARTSTAT=ACCEPTED:we
	b@bandits-clan.ru
ATTENDEE;CN="Orfice";CUTYPE=INDIVIDUAL;PARTSTAT=ACCEPTED:web
	@bandits-clan.ru
ATTENDEE;CN="TanakiFrostBlood";CUTYPE=INDIVIDUAL;PARTSTAT=AC
	CEPTED:web@bandits-clan.ru
END:VEVENT
END:VCALENDAR
