BEGIN:VCALENDAR
VERSION:2.0
PRODID:-//InvisionCommunity Events 4.7.14//EN
METHOD:PUBLISH
CALSCALE:GREGORIAN
REFRESH-INTERVAL:PT15M
X-PUBLISHED-TTL:PT15M
X-WR-CALNAME:The Elder Scrolls Online
NAME:The Elder Scrolls Online
BEGIN:VTIMEZONE
TZID:Europe/London
TZURL:http://tzurl.org/zoneinfo/Europe/London
X-LIC-LOCATION:Europe/London
BEGIN:DAYLIGHT
TZOFFSETFROM:+0000
TZOFFSETTO:+0100
TZNAME:BST
DTSTART:20220327T020000Z
RRULE:FREQ=YEARLY;BYMONTH=3;BYDAY=-1SU
END:DAYLIGHT
BEGIN:STANDARD
TZOFFSETFROM:+0100
TZOFFSETTO:+0000
TZNAME:GMT
DTSTART:20221030T020000Z
RRULE:FREQ=YEARLY;BYMONTH=10;BYDAY=-1SU
END:STANDARD
END:VTIMEZONE
BEGIN:VEVENT
SUMMARY:[TESO] Небесные ос
	колки и публичные подземелья Саммерсета
DTSTAMP:20220110T103142Z
SEQUENCE:0
UID:9734-1-afb15bc42254ad5fb0481ce5e9c8144d@forum.bandits-clan.ru
ORGANIZER;CN="Dmitriyvaulin":web@bandits-clan.ru
DESCRIPTION:\n	Приглаш
	аю всех на
	 прохожден
	ие публич
	ных подземе
	лий и сбор небесных о
	сколков на Саммерсете - К
	арнвастен (ориг.Karnwasten)\, Санхолд
	 (ориг.Sunhold) ЛВЛ НЕ ВАЖЕН\n\n\n\n	 
	\n\n\n\n	Требования для участия:\n
	\n\n\n		DLC Саммерсет или подписка.\n
		\n	\n		Discord и наличие микроф
	она\n	\n\n	Собираемся в канале \"Мировые бос
	сы\"\n\n
DTSTART:20220112T150000Z
END:VEVENT
END:VCALENDAR
