BEGIN:VCALENDAR
VERSION:2.0
PRODID:-//InvisionCommunity Events 4.7.14//EN
METHOD:PUBLISH
CALSCALE:GREGORIAN
REFRESH-INTERVAL:PT15M
X-PUBLISHED-TTL:PT15M
X-WR-CALNAME:The Elder Scrolls Online
NAME:The Elder Scrolls Online
BEGIN:VTIMEZONE
TZID:Europe/London
TZURL:http://tzurl.org/zoneinfo/Europe/London
X-LIC-LOCATION:Europe/London
BEGIN:DAYLIGHT
TZOFFSETFROM:+0000
TZOFFSETTO:+0100
TZNAME:BST
DTSTART:20210328T020000Z
RRULE:FREQ=YEARLY;BYMONTH=3;BYDAY=-1SU
END:DAYLIGHT
BEGIN:STANDARD
TZOFFSETFROM:+0100
TZOFFSETTO:+0000
TZNAME:GMT
DTSTART:20211031T020000Z
RRULE:FREQ=YEARLY;BYMONTH=10;BYDAY=-1SU
END:STANDARD
END:VTIMEZONE
BEGIN:VEVENT
SUMMARY:[TESO] nMoL Пасть Лорхаджа.
DTSTAMP:20211231T090256Z
SEQUENCE:0
UID:9715-1-afb15bc42254ad5fb0481ce5e9c8144d@forum.bandits-clan.ru
ORGANIZER;CN="klerk88":web@bandits-clan.ru
DESCRIPTION:\n	Быстрый з
	абег перед но
	вогодним запо
	ем\, последний
	 полу трезвый триал эт
	ого года и его поведет 
	лучший РЛ гильдии!!! \n\n\
	n\n	Нам понадобится 1 танк
	\, один или два хила + 9 д
	д\, с вас наличие ДЛС Гильдия Воров\, 1
	60ЧП и табард гильдии.\n\n
DTSTART:20211231T190000Z
ATTENDEE;CN="klerk88";CUTYPE=INDIVIDUAL;PARTSTAT=ACCEPTED:we
	b@bandits-clan.ru
ATTENDEE;CN="fabr78Иван";CUTYPE=INDIVIDUAL;PARTSTAT=ACCE
	PTED:web@bandits-clan.ru
END:VEVENT
END:VCALENDAR
