BEGIN:VCALENDAR
VERSION:2.0
PRODID:-//InvisionCommunity Events 4.7.14//EN
METHOD:PUBLISH
CALSCALE:GREGORIAN
REFRESH-INTERVAL:PT15M
X-PUBLISHED-TTL:PT15M
X-WR-CALNAME:The Elder Scrolls Online
NAME:The Elder Scrolls Online
BEGIN:VTIMEZONE
TZID:Europe/London
TZURL:http://tzurl.org/zoneinfo/Europe/London
X-LIC-LOCATION:Europe/London
BEGIN:DAYLIGHT
TZOFFSETFROM:+0000
TZOFFSETTO:+0100
TZNAME:BST
DTSTART:20210328T020000Z
RRULE:FREQ=YEARLY;BYMONTH=3;BYDAY=-1SU
END:DAYLIGHT
BEGIN:STANDARD
TZOFFSETFROM:+0100
TZOFFSETTO:+0000
TZNAME:GMT
DTSTART:20211031T020000Z
RRULE:FREQ=YEARLY;BYMONTH=10;BYDAY=-1SU
END:STANDARD
END:VTIMEZONE
BEGIN:VEVENT
SUMMARY:[TESO] Ветеранское и
	спытание Цитадель Хел Ра + Хард Мод (vHRC +HM)
DTSTAMP:20211220T154554Z
SEQUENCE:0
UID:9696-1-afb15bc42254ad5fb0481ce5e9c8144d@forum.bandits-clan.ru
ORGANIZER;CN="Kubik":web@bandits-clan.ru
DESCRIPTION:\n	Приглаш
	аю всех желающих про
	йти испытание Цитадель Хел Р
	а вет. + Хард Мод (vHRC +HM)\n\n\n\n	Не
	обходимый состав:\n\n\n\n		2 Танка\n	\n	\n
			2 Лекаря\n	\n	\n		8 Бойцов\n	\n\n	Обязател
	ьные аддоны:\n\n\n\n		Bandits User Interface
	\n	\n\n	Требования для участия:\n\n\n\n		З
	вание Bandit/Бандит\n	\n	\n		Discord и 
	наличие микрофона\n	\n	\n		Табард гильдии Dag
	gerfall Bandits / Bandits Clan / Bandits Force\n	\n\n	Дл
	я подтверждения у
	частия необходимо от
	метиться в календаре:\n\n\
	n\n		Нажать кнопку Пойду\n	
	\n	\n		Указать свою роль и ID
	 в комментариях\n	\n	\
	n		Если по каки
	м-то причинам 
	не получится п
	рийти\, отписаться в комментариях\, 
	изменив свое сообщение.\n	\n
DTSTART:20211221T180000Z
DTEND:20211221T180500Z
ATTENDEE;CN="Kubik";CUTYPE=INDIVIDUAL;PARTSTAT=ACCEPTED:web@
	bandits-clan.ru
ATTENDEE;CN="Copperfild";CUTYPE=INDIVIDUAL;PARTSTAT=ACCEPTED
	:web@bandits-clan.ru
ATTENDEE;CN="Tirnanok";CUTYPE=INDIVIDUAL;PARTSTAT=ACCEPTED:w
	eb@bandits-clan.ru
ATTENDEE;CN="Stonechump";CUTYPE=INDIVIDUAL;PARTSTAT=ACCEPTED
	:web@bandits-clan.ru
ATTENDEE;CN="Magistr";CUTYPE=INDIVIDUAL;PARTSTAT=ACCEPTED:we
	b@bandits-clan.ru
ATTENDEE;CN="KaSp1x";CUTYPE=INDIVIDUAL;PARTSTAT=ACCEPTED:web
	@bandits-clan.ru
ATTENDEE;CN="Денмарк";CUTYPE=INDIVIDUAL;PARTSTAT=ACCE
	PTED:web@bandits-clan.ru
ATTENDEE;CN="Murinus";CUTYPE=INDIVIDUAL;PARTSTAT=ACCEPTED:we
	b@bandits-clan.ru
END:VEVENT
END:VCALENDAR
