BEGIN:VCALENDAR
VERSION:2.0
PRODID:-//InvisionCommunity Events 4.7.14//EN
METHOD:PUBLISH
CALSCALE:GREGORIAN
REFRESH-INTERVAL:PT15M
X-PUBLISHED-TTL:PT15M
X-WR-CALNAME:The Elder Scrolls Online
NAME:The Elder Scrolls Online
BEGIN:VTIMEZONE
TZID:Europe/London
TZURL:http://tzurl.org/zoneinfo/Europe/London
X-LIC-LOCATION:Europe/London
BEGIN:DAYLIGHT
TZOFFSETFROM:+0000
TZOFFSETTO:+0100
TZNAME:BST
DTSTART:20210328T020000Z
RRULE:FREQ=YEARLY;BYMONTH=3;BYDAY=-1SU
END:DAYLIGHT
BEGIN:STANDARD
TZOFFSETFROM:+0100
TZOFFSETTO:+0000
TZNAME:GMT
DTSTART:20211031T020000Z
RRULE:FREQ=YEARLY;BYMONTH=10;BYDAY=-1SU
END:STANDARD
END:VTIMEZONE
BEGIN:VEVENT
SUMMARY:[TESO] Рейд статика In Name Of Wipe
DTSTAMP:20211212T221048Z
SEQUENCE:0
UID:9679-1-afb15bc42254ad5fb0481ce5e9c8144d@forum.bandits-clan.ru
ORGANIZER;CN="Kubik":web@bandits-clan.ru
DESCRIPTION:\n	Рейд статика In Name Of Wipe
	.\n\n\n\n	Требования дл
	я вступления:\
	n\n	Обратите 
	внимание\,
	 здесь указан
	ы минимальные 
	требования дл
	я вступления. 
	Требования по ДЛ
	С\, сетам и ДПСу могут 
	меняться в зависимо
	сти от триала.\n\n\n\n
			Желание учи
	ться вместе 
	со всеми\, у
	мение при не
	обходимости подстро
	иться под нужды груп
	пы по скиллам и сетам.\n	\n
		\n		Отключить аноним
	ность.\n	\n	\n		Устано
	вить необходимые аддоны
	 для выполнения механик.\n	\n	\n		Д
	Д: ДПС в 21кк скелета 70к.\n
		\n	\n		Танкам на момент зап
	иси минимум 2 сета\, кот
	орые скажет РЛ.\n	\n	\n	
		Хилам на момент записи 
	минимум 2 сета\, котор
	ые скажет РЛ.\n	\n	\n
			Наличие минима
	льного набора Д
	ЛС: Морровинд\, Саммерс
	ет\, Гильдия Воров\
	, Северный Эльсвейр.\n
		\n\n	Все желающие присоединиться напиши
	те в лс @Libra_Nix (Лиз).\n\n
DTSTART:20211213T170000Z
DTEND:20211213T170500Z
END:VEVENT
END:VCALENDAR
