BEGIN:VCALENDAR
VERSION:2.0
PRODID:-//InvisionCommunity Events 4.7.14//EN
METHOD:PUBLISH
CALSCALE:GREGORIAN
REFRESH-INTERVAL:PT15M
X-PUBLISHED-TTL:PT15M
X-WR-CALNAME:The Elder Scrolls Online
NAME:The Elder Scrolls Online
BEGIN:VTIMEZONE
TZID:Europe/London
TZURL:http://tzurl.org/zoneinfo/Europe/London
X-LIC-LOCATION:Europe/London
BEGIN:DAYLIGHT
TZOFFSETFROM:+0000
TZOFFSETTO:+0100
TZNAME:BST
DTSTART:20210328T020000Z
RRULE:FREQ=YEARLY;BYMONTH=3;BYDAY=-1SU
END:DAYLIGHT
BEGIN:STANDARD
TZOFFSETFROM:+0100
TZOFFSETTO:+0000
TZNAME:GMT
DTSTART:20211031T020000Z
RRULE:FREQ=YEARLY;BYMONTH=10;BYDAY=-1SU
END:STANDARD
END:VTIMEZONE
BEGIN:VEVENT
SUMMARY:[TESO] Нормальное испытание Клау
	дрест +0 (nCR +0)
DTSTAMP:20211212T220309Z
SEQUENCE:0
UID:9676-1-afb15bc42254ad5fb0481ce5e9c8144d@forum.bandits-clan.ru
ORGANIZER;CN="Kubik":web@bandits-clan.ru
DESCRIPTION:\n	Пригла
	шаю всех желающих пройти 
	нормальное испытание Клаудрес
	т +0 (nCR +0).\n\n\n\n	Необходимый состав:\n\n\n
	\n		1 Танк\n	\n	\n		2 Лекаря\n	\n	\n		9 
	Бойцов\n	\n\n	Обязательные аддоны:\n\n\n\n		Bandit
	s User Interface\n	\n\n	Требования для уча
	стия:\n\n\n\n		DLC Саммерсет или подписка.\n
		\n	\n		Звание Thief\n	\n	\n		160 очков чемпиона.
	\n	\n	\n		Discord и наличие микрофона\n	\n	\
	n		Табард гильдии Daggerfall Bandits / Bandits Clan / Bandits
	 Force\n	\n\n	Для под
	тверждения участи
	я необходимо отметиться в
	 календаре:\n\n\n\n		Нажать кн
	опку Пойду\n	\n	\n		Указать с
	вою роль и ID в коммент
	ариях\n	\n	\n		Если п
	о каким-то при
	чинам не полу
	чится прийти\, отпи
	саться в комментар
	иях\, изменив свое сообщение\n	\n\n	
	Описание испытания:\n\n\n\n\n	 \n\n
DTSTART:20211217T140000Z
DTEND:20211217T140500Z
ATTENDEE;CN="Kubik";CUTYPE=INDIVIDUAL;PARTSTAT=ACCEPTED:web@
	bandits-clan.ru
ATTENDEE;CN="Copperfild";CUTYPE=INDIVIDUAL;PARTSTAT=ACCEPTED
	:web@bandits-clan.ru
ATTENDEE;CN="Oven";CUTYPE=INDIVIDUAL;PARTSTAT=ACCEPTED:web@b
	andits-clan.ru
ATTENDEE;CN="LeksiRu";CUTYPE=INDIVIDUAL;PARTSTAT=ACCEPTED:we
	b@bandits-clan.ru
ATTENDEE;CN="Exile5555";CUTYPE=INDIVIDUAL;PARTSTAT=ACCEPTED:
	web@bandits-clan.ru
ATTENDEE;CN="TAPAH";CUTYPE=INDIVIDUAL;PARTSTAT=ACCEPTED:web@
	bandits-clan.ru
ATTENDEE;CN="Klin89";CUTYPE=INDIVIDUAL;PARTSTAT=ACCEPTED:web
	@bandits-clan.ru
ATTENDEE;CN="Lieliya";CUTYPE=INDIVIDUAL;PARTSTAT=ACCEPTED:we
	b@bandits-clan.ru
ATTENDEE;CN="Mrakor";CUTYPE=INDIVIDUAL;PARTSTAT=ACCEPTED:web
	@bandits-clan.ru
END:VEVENT
END:VCALENDAR
