BEGIN:VCALENDAR
VERSION:2.0
PRODID:-//InvisionCommunity Events 4.7.14//EN
METHOD:PUBLISH
CALSCALE:GREGORIAN
REFRESH-INTERVAL:PT15M
X-PUBLISHED-TTL:PT15M
X-WR-CALNAME:The Elder Scrolls Online
NAME:The Elder Scrolls Online
BEGIN:VTIMEZONE
TZID:Europe/London
TZURL:http://tzurl.org/zoneinfo/Europe/London
X-LIC-LOCATION:Europe/London
BEGIN:DAYLIGHT
TZOFFSETFROM:+0000
TZOFFSETTO:+0100
TZNAME:BST
DTSTART:20210328T020000Z
RRULE:FREQ=YEARLY;BYMONTH=3;BYDAY=-1SU
END:DAYLIGHT
BEGIN:STANDARD
TZOFFSETFROM:+0100
TZOFFSETTO:+0000
TZNAME:GMT
DTSTART:20211031T020000Z
RRULE:FREQ=YEARLY;BYMONTH=10;BYDAY=-1SU
END:STANDARD
END:VTIMEZONE
BEGIN:VEVENT
SUMMARY:[TESO] Ветеранское испытание Паст
	ь Лорхаджа (vMOL)
DTSTAMP:20211114T191337Z
SEQUENCE:0
UID:9619-1-afb15bc42254ad5fb0481ce5e9c8144d@forum.bandits-clan.ru
ORGANIZER;CN="Kubik":web@bandits-clan.ru
DESCRIPTION:\n	Пригла
	шаю всех желающих 
	пройти ветеранское испытание
	 Пасть Лорхаджа (vMOL) в 21:00 М
	СК.\n\n\n\n	Приоритет
	 на людей\, которые з
	аписались и были в прошлом ре
	йде.\n\n\n\n	Необходимый состав:\n\n\n\n		2
	 Танка\n	\n	\n		2 Лекаря\n	\n	\n		8 Бой
	цов\n	\n\n	Обязательные аддоны:\n\n\n\n		Bandits U
	ser Interface\n	\n\n	Требования для участи
	я:\n\n\n\n		DLC - Гильдия Воров или под
	писка.\n	\n	\n		Звание Raider/Рейдер\n	\
	n	\n		Discord и наличие микрофона\n	\n	\n		Т
	абард гильдии Daggerfall Bandits / Bandits Clan / Bandits F
	orce\n	\n\n	Для подтв
	ерждения участия 
	необходимо отметиться в к
	алендаре:\n\n\n\n		Нажать кноп
	ку Пойду\n	\n	\n		Указать свою
	 роль и ID в комментария
	х\n	\n	\n		Если по как
	им-то причинам
	 не получится 
	прийти\, отписатьс
	я в комментариях\, изме
	нив свое сообщение\n	\n\n	Описание испыта
	ния:\n\n\n\n\n	 \n\n
DTSTART:20211117T180000Z
DTEND:20211117T180500Z
ATTENDEE;CN="Kubik";CUTYPE=INDIVIDUAL;PARTSTAT=ACCEPTED:web@
	bandits-clan.ru
ATTENDEE;CN="Fimona";CUTYPE=INDIVIDUAL;PARTSTAT=ACCEPTED:web
	@bandits-clan.ru
ATTENDEE;CN="TanakiFrostBlood";CUTYPE=INDIVIDUAL;PARTSTAT=AC
	CEPTED:web@bandits-clan.ru
ATTENDEE;CN="Vanyusha";CUTYPE=INDIVIDUAL;PARTSTAT=ACCEPTED:w
	eb@bandits-clan.ru
ATTENDEE;CN="Fidonoff";CUTYPE=INDIVIDUAL;PARTSTAT=ACCEPTED:w
	eb@bandits-clan.ru
ATTENDEE;CN="BoshkiShishki";CUTYPE=INDIVIDUAL;PARTSTAT=ACCEP
	TED:web@bandits-clan.ru
ATTENDEE;CN="Денмарк";CUTYPE=INDIVIDUAL;PARTSTAT=ACCE
	PTED:web@bandits-clan.ru
ATTENDEE;CN="Murinus";CUTYPE=INDIVIDUAL;PARTSTAT=ACCEPTED:we
	b@bandits-clan.ru
END:VEVENT
END:VCALENDAR
