BEGIN:VCALENDAR
VERSION:2.0
PRODID:-//InvisionCommunity Events 4.7.14//EN
METHOD:PUBLISH
CALSCALE:GREGORIAN
REFRESH-INTERVAL:PT15M
X-PUBLISHED-TTL:PT15M
X-WR-CALNAME:The Elder Scrolls Online
NAME:The Elder Scrolls Online
BEGIN:VTIMEZONE
TZID:Europe/London
TZURL:http://tzurl.org/zoneinfo/Europe/London
X-LIC-LOCATION:Europe/London
BEGIN:DAYLIGHT
TZOFFSETFROM:+0000
TZOFFSETTO:+0100
TZNAME:BST
DTSTART:20210328T020000Z
RRULE:FREQ=YEARLY;BYMONTH=3;BYDAY=-1SU
END:DAYLIGHT
BEGIN:STANDARD
TZOFFSETFROM:+0100
TZOFFSETTO:+0000
TZNAME:GMT
DTSTART:20211031T020000Z
RRULE:FREQ=YEARLY;BYMONTH=10;BYDAY=-1SU
END:STANDARD
END:VTIMEZONE
BEGIN:VEVENT
SUMMARY:[TESO] Ветеранское испытание Паст
	ь Лорхаджа (vMOL)
DTSTAMP:20211031T072856Z
SEQUENCE:0
UID:9589-1-afb15bc42254ad5fb0481ce5e9c8144d@forum.bandits-clan.ru
ORGANIZER;CN="Kubik":web@bandits-clan.ru
DESCRIPTION:\n	Пригла
	шаю всех желающих 
	пройти ветеранское ис
	пытание Пасть Лорхаджа (v
	MOL) в 22:00 МСК. Рейд начнется н
	а 1 час позднее\, чем об
	ычно.\n\n\n\n	Приорит
	ет на людей\, которые
	 записались и были в прошлом 
	рейде.\n\n\n\n	Необходимый состав:\n\n\n\
	n		2 Танка\n	\n	\n		2 Лекаря\n	\n	\n		8
	 Бойцов\n	\n\n	Обязательные аддоны:\n\n\n\n		Bandi
	ts User Interface\n	\n\n	Требования для участ
	ия:\n\n\n\n		DLC - Гильдия Воров или по
	дписка.\n	\n	\n		Звание Raider/Рейдер\n
		\n	\n		Discord и наличие микрофона\n	\n	\n	
		Табард гильдии Daggerfall Bandits / Bandits Clan / Bandits 
	Force\n	\n\n	Для подт
	верждения участия
	 необходимо отметиться в к
	алендаре:\n\n\n\n		Нажать кноп
	ку Пойду\n	\n	\n		Указать свою
	 роль и ID в комментария
	х\n	\n	\n		Если по как
	им-то причинам
	 не получится 
	прийти\, отписатьс
	я в комментариях\, изме
	нив свое сообщение\n	\n\n	Описание испыта
	ния:\n\n\n\n\n	 \n\n
DTSTART:20211105T190000Z
DTEND:20211105T190500Z
ATTENDEE;CN="Kubik";CUTYPE=INDIVIDUAL;PARTSTAT=ACCEPTED:web@
	bandits-clan.ru
ATTENDEE;CN="Fimona";CUTYPE=INDIVIDUAL;PARTSTAT=ACCEPTED:web
	@bandits-clan.ru
ATTENDEE;CN="LaraCroft43";CUTYPE=INDIVIDUAL;PARTSTAT=ACCEPTE
	D:web@bandits-clan.ru
ATTENDEE;CN="Kapitul";CUTYPE=INDIVIDUAL;PARTSTAT=ACCEPTED:we
	b@bandits-clan.ru
ATTENDEE;CN="KitzyTyzy";CUTYPE=INDIVIDUAL;PARTSTAT=ACCEPTED:
	web@bandits-clan.ru
ATTENDEE;CN="FakeGod";CUTYPE=INDIVIDUAL;PARTSTAT=ACCEPTED:we
	b@bandits-clan.ru
ATTENDEE;CN="N1ntendos";CUTYPE=INDIVIDUAL;PARTSTAT=ACCEPTED:
	web@bandits-clan.ru
ATTENDEE;CN="Fidonoff";CUTYPE=INDIVIDUAL;PARTSTAT=ACCEPTED:w
	eb@bandits-clan.ru
ATTENDEE;CN="Vanyusha";CUTYPE=INDIVIDUAL;PARTSTAT=ACCEPTED:w
	eb@bandits-clan.ru
ATTENDEE;CN="d1udf";CUTYPE=INDIVIDUAL;PARTSTAT=ACCEPTED:web@
	bandits-clan.ru
END:VEVENT
END:VCALENDAR
