BEGIN:VCALENDAR
VERSION:2.0
PRODID:-//InvisionCommunity Events 4.7.14//EN
METHOD:PUBLISH
CALSCALE:GREGORIAN
REFRESH-INTERVAL:PT15M
X-PUBLISHED-TTL:PT15M
X-WR-CALNAME:The Elder Scrolls Online
NAME:The Elder Scrolls Online
BEGIN:VTIMEZONE
TZID:Europe/London
TZURL:http://tzurl.org/zoneinfo/Europe/London
X-LIC-LOCATION:Europe/London
BEGIN:DAYLIGHT
TZOFFSETFROM:+0000
TZOFFSETTO:+0100
TZNAME:BST
DTSTART:20210328T020000Z
RRULE:FREQ=YEARLY;BYMONTH=3;BYDAY=-1SU
END:DAYLIGHT
BEGIN:STANDARD
TZOFFSETFROM:+0100
TZOFFSETTO:+0000
TZNAME:GMT
DTSTART:20211031T020000Z
RRULE:FREQ=YEARLY;BYMONTH=10;BYDAY=-1SU
END:STANDARD
END:VTIMEZONE
BEGIN:VEVENT
SUMMARY:[TESO] Охота за черепами
DTSTAMP:20211026T110348Z
SEQUENCE:0
UID:9581-1-afb15bc42254ad5fb0481ce5e9c8144d@forum.bandits-clan.ru
ORGANIZER;CN="Shepsteijens":web@bandits-clan.ru
DESCRIPTION:\n	Добрейшего вр
	емени суток :3 \n
	\n	Приглашаю всех 
	желающих на охот
	у за черепами (П
	раздник ведьм)
	\n\nПлан забега: За
	фармить всех м
	ировых боссов ло
	кации Дешаан.\n\n	В
	 перерывах буде
	м забегать на до
	льмены\, а так же
	 в логова и от
	крытое подзем
	елье. В завершен
	ии\, всем рейдом п
	ойдем убивать Воро
	ний ужас (квест \"О
	щипанная ворона
	\")\n\n	По итогу каж
	дый получит меш
	ок фиолетовых чере
	пушек и 4 золотых\, 
	если ранее не усп
	ели их получить.\
	n\nУровень и опыт н
	е важны: приходи
	те сами или прив
	одите твинков. \n
	\nПри себе иметь
	 хорошее настро
	ение\, накидку ги
	льдии\, пустую су
	мку для загребания лута\, а так же 
	квест \"Ощипанная ворона\" \n\n
DTSTART:20211027T080000Z
DTEND:20211027T090000Z
ATTENDEE;CN="Shepsteijens";CUTYPE=INDIVIDUAL;PARTSTAT=ACCEPT
	ED:web@bandits-clan.ru
ATTENDEE;CN="BaraBascha";CUTYPE=INDIVIDUAL;PARTSTAT=ACCEPTED
	:web@bandits-clan.ru
ATTENDEE;CN="Lieliya";CUTYPE=INDIVIDUAL;PARTSTAT=ACCEPTED:we
	b@bandits-clan.ru
END:VEVENT
END:VCALENDAR
