BEGIN:VCALENDAR
VERSION:2.0
PRODID:-//InvisionCommunity Events 4.7.14//EN
METHOD:PUBLISH
CALSCALE:GREGORIAN
REFRESH-INTERVAL:PT15M
X-PUBLISHED-TTL:PT15M
X-WR-CALNAME:The Elder Scrolls Online
NAME:The Elder Scrolls Online
BEGIN:VTIMEZONE
TZID:Europe/London
TZURL:http://tzurl.org/zoneinfo/Europe/London
X-LIC-LOCATION:Europe/London
BEGIN:DAYLIGHT
TZOFFSETFROM:+0000
TZOFFSETTO:+0100
TZNAME:BST
DTSTART:20210328T020000Z
RRULE:FREQ=YEARLY;BYMONTH=3;BYDAY=-1SU
END:DAYLIGHT
BEGIN:STANDARD
TZOFFSETFROM:+0100
TZOFFSETTO:+0000
TZNAME:GMT
DTSTART:20211031T020000Z
RRULE:FREQ=YEARLY;BYMONTH=10;BYDAY=-1SU
END:STANDARD
END:VTIMEZONE
BEGIN:VEVENT
SUMMARY:[TESO] Нормальное испытание К
	аменная Роща (nRG)
DTSTAMP:20211004T031658Z
SEQUENCE:0
UID:9534-1-afb15bc42254ad5fb0481ce5e9c8144d@forum.bandits-clan.ru
ORGANIZER;CN="NekrosOldSchool":web@bandits-clan.ru
DESCRIPTION:\n	НАЧАЛО В 14.00 МСК\n\n\n\n	Состав\n\
	n\n\n		2 Танка\n	\n	\n		2 Доктора\n	\n	\n		8 Дыр
	 Дыров \n	\n\n	1-2-3 забега по 
	настроению.\n\n\n\n	Требован
	ия к Дыр Дырам. \n\n\n\n		Ну х
	оть что-то выжать из себя л
	юбимых. \n	\n\n	Требован
	ия к Докторам.\n\n\n\n		Бере
	чь исключительно Танко
	в. \n	\n	\n		Помер Дыр Д
	ыр и фикус ему 
	на могилку. Дыр Ды
	р воскрешает Дыр Ды
	ра. Доктора смотрят за Танк
	ами. \n	\n\n	Требования к Та
	нкам. \n\n\n\n		Стоять не
	 дохнуть. Все сдохли 
	? Танки пробуйте разрес. \n	\
	n\n	Приоритет по набору в Ре
	йд. \n\n\n\n		Ну типа запись и 
	низкое ЧП от 160. \n	\n\n	Гл
	авное требование. \n\n\n
	\n		ХОРОШЕЕ НАСТРОЕНИЕ. \n	\n\n	Главны
	й Минус Рейда. \n\n\n\n		NekrosOldSchool нифига не Р
	Л.\n	\n
DTSTART:20211005T110000Z
DTEND:20211005T110500Z
ATTENDEE;CN="NekrosOldSchool";CUTYPE=INDIVIDUAL;PARTSTAT=ACC
	EPTED:web@bandits-clan.ru
ATTENDEE;CN="d1udf";CUTYPE=INDIVIDUAL;PARTSTAT=ACCEPTED:web@
	bandits-clan.ru
ATTENDEE;CN="Fimona";CUTYPE=INDIVIDUAL;PARTSTAT=ACCEPTED:web
	@bandits-clan.ru
ATTENDEE;CN="DetFix";CUTYPE=INDIVIDUAL;PARTSTAT=ACCEPTED:web
	@bandits-clan.ru
END:VEVENT
END:VCALENDAR
