BEGIN:VCALENDAR
VERSION:2.0
PRODID:-//InvisionCommunity Events 4.7.14//EN
METHOD:PUBLISH
CALSCALE:GREGORIAN
REFRESH-INTERVAL:PT15M
X-PUBLISHED-TTL:PT15M
X-WR-CALNAME:Pokemon GO
NAME:Pokemon GO
BEGIN:VTIMEZONE
TZID:Europe/London
TZURL:http://tzurl.org/zoneinfo/Europe/London
X-LIC-LOCATION:Europe/London
BEGIN:DAYLIGHT
TZOFFSETFROM:+0000
TZOFFSETTO:+0100
TZNAME:BST
DTSTART:20210328T020000Z
RRULE:FREQ=YEARLY;BYMONTH=3;BYDAY=-1SU
END:DAYLIGHT
BEGIN:STANDARD
TZOFFSETFROM:+0100
TZOFFSETTO:+0000
TZNAME:GMT
DTSTART:20211031T020000Z
RRULE:FREQ=YEARLY;BYMONTH=10;BYDAY=-1SU
END:STANDARD
END:VTIMEZONE
BEGIN:VEVENT
SUMMARY:[Pokemon GO] День Сообщества - 
	Покемон-реквием Даскалл
DTSTAMP:20210927T171615Z
SEQUENCE:0
UID:9531-6-afb15bc42254ad5fb0481ce5e9c8144d@forum.bandits-clan.ru
ORGANIZER;CN="Kubik":web@bandits-clan.ru
DESCRIPTION:\n	Октябрьский д
	ень сообщества\n\n\n\n	Присоед
	иняйтесь к нам с 11:00 до 17:
	00 субботы 9 октября
	 2021 года по мес
	тному времени
	 на мероприят
	ии в честь Дн
	я сообщества 
	с участием Да
	скалла\, Поке
	мона-Реквиема! Даск
	алл будет чаще поя
	вляться в дикой пр
	ироде.\n\n\n\n	Про
	ведите эволю
	цию Даскалла 
	в Дасклопса во 
	время события
	 или в течение
	 двух часов п
	осле него\, чтобы 
	получить Даскнуара
	 с заряженной атакой «Шар тьмы
	».\n\n\n\n	Подробнее о событии:\n\n\n\n\n	 \n\n
DTSTART;VALUE=DATE:20211009
END:VEVENT
END:VCALENDAR
