BEGIN:VCALENDAR
VERSION:2.0
PRODID:-//InvisionCommunity Events 4.7.14//EN
METHOD:PUBLISH
CALSCALE:GREGORIAN
REFRESH-INTERVAL:PT15M
X-PUBLISHED-TTL:PT15M
X-WR-CALNAME:Pokemon GO
NAME:Pokemon GO
BEGIN:VTIMEZONE
TZID:Europe/London
TZURL:http://tzurl.org/zoneinfo/Europe/London
X-LIC-LOCATION:Europe/London
BEGIN:DAYLIGHT
TZOFFSETFROM:+0000
TZOFFSETTO:+0100
TZNAME:BST
DTSTART:20210328T020000Z
RRULE:FREQ=YEARLY;BYMONTH=3;BYDAY=-1SU
END:DAYLIGHT
BEGIN:STANDARD
TZOFFSETFROM:+0100
TZOFFSETTO:+0000
TZNAME:GMT
DTSTART:20211031T020000Z
RRULE:FREQ=YEARLY;BYMONTH=10;BYDAY=-1SU
END:STANDARD
END:VTIMEZONE
BEGIN:VEVENT
SUMMARY:[Pokemon GO] Рейдовый час - Измен
	енная форма Гиратины
DTSTAMP:20210927T143449Z
SEQUENCE:0
UID:9524-6-afb15bc42254ad5fb0481ce5e9c8144d@forum.bandits-clan.ru
ORGANIZER;CN="Kubik":web@bandits-clan.ru
DESCRIPTION:\n	С 18:00 до 19:00 по
	 местному вр
	емени пройдет рей
	довый час\, где вас 
	ждет Измененная форма
	 Гиратины.\n\n\n\n	Подробнее в новости на
	 форуме:\n\n\n\n\n	 \n\n
DTSTART;VALUE=DATE:20211013
END:VEVENT
END:VCALENDAR
