BEGIN:VCALENDAR
VERSION:2.0
PRODID:-//InvisionCommunity Events 4.7.14//EN
METHOD:PUBLISH
CALSCALE:GREGORIAN
REFRESH-INTERVAL:PT15M
X-PUBLISHED-TTL:PT15M
X-WR-CALNAME:The Elder Scrolls Online
NAME:The Elder Scrolls Online
BEGIN:VTIMEZONE
TZID:Europe/London
TZURL:http://tzurl.org/zoneinfo/Europe/London
X-LIC-LOCATION:Europe/London
BEGIN:DAYLIGHT
TZOFFSETFROM:+0000
TZOFFSETTO:+0100
TZNAME:BST
DTSTART:20210328T020000Z
RRULE:FREQ=YEARLY;BYMONTH=3;BYDAY=-1SU
END:DAYLIGHT
BEGIN:STANDARD
TZOFFSETFROM:+0100
TZOFFSETTO:+0000
TZNAME:GMT
DTSTART:20211031T020000Z
RRULE:FREQ=YEARLY;BYMONTH=10;BYDAY=-1SU
END:STANDARD
END:VTIMEZONE
BEGIN:VEVENT
SUMMARY:[TESO] Семинар по анализу логов
DTSTAMP:20210831T184500Z
SEQUENCE:0
UID:9477-1-afb15bc42254ad5fb0481ce5e9c8144d@forum.bandits-clan.ru
ORGANIZER;CN="Lisbrainy":web@bandits-clan.ru
DESCRIPTION:\n	Привет всем 
	тем\, кто интере
	суется рейдингом
	 в тесо - только пл
	анирует начинать\, уже 
	рейдит вовсю\, а также
	 и рейд лидерам!\n\n
	\n\n	Приглашаем в
	ас на семинар по анали
	зу такой важной части 
	рейдинга\, как логи.\n\n\
	n\n	На семинаре вы у
	знаете\, как за
	писать логи\, 
	как их анали
	зировать\, как
	ую информацию м
	ожно оттуда доб
	ыть. Обменяемся опытом\, 
	и конечно\, будет стрим для уд
	обства!\n\n\n\n	 \n\n\n\n	Приходите\, ждем вас!\n\n
DTSTART:20210911T120000Z
ATTENDEE;CN="Semeckiy ";CUTYPE=INDIVIDUAL;PARTSTAT=ACCEPTED:
	web@bandits-clan.ru
ATTENDEE;CN="Shepsteijens";CUTYPE=INDIVIDUAL;PARTSTAT=ACCEPT
	ED:web@bandits-clan.ru
ATTENDEE;CN="Kubik";CUTYPE=INDIVIDUAL;PARTSTAT=ACCEPTED:web@
	bandits-clan.ru
END:VEVENT
END:VCALENDAR
