BEGIN:VCALENDAR
VERSION:2.0
PRODID:-//InvisionCommunity Events 4.7.14//EN
METHOD:PUBLISH
CALSCALE:GREGORIAN
REFRESH-INTERVAL:PT15M
X-PUBLISHED-TTL:PT15M
X-WR-CALNAME:The Elder Scrolls Online
NAME:The Elder Scrolls Online
BEGIN:VTIMEZONE
TZID:Europe/London
TZURL:http://tzurl.org/zoneinfo/Europe/London
X-LIC-LOCATION:Europe/London
BEGIN:DAYLIGHT
TZOFFSETFROM:+0000
TZOFFSETTO:+0100
TZNAME:BST
DTSTART:20210328T020000Z
RRULE:FREQ=YEARLY;BYMONTH=3;BYDAY=-1SU
END:DAYLIGHT
BEGIN:STANDARD
TZOFFSETFROM:+0100
TZOFFSETTO:+0000
TZNAME:GMT
DTSTART:20211031T020000Z
RRULE:FREQ=YEARLY;BYMONTH=10;BYDAY=-1SU
END:STANDARD
END:VTIMEZONE
BEGIN:VEVENT
SUMMARY:[TESO] Ветеранское испытание Паст
	ь Лорхаджа (vMOL)
DTSTAMP:20210815T065436Z
SEQUENCE:0
UID:9426-1-afb15bc42254ad5fb0481ce5e9c8144d@forum.bandits-clan.ru
ORGANIZER;CN="Элис":web@bandits-clan.ru
DESCRIPTION:\n	Приглаша
	ю всех желающих пойт
	и испытание Пасть Лорхаджа\, получи
	ть сеты Lunar Bastion\,  Moondancer\, Roar of Alkosh\, Twilight 
	Remedy\n\n	Начало события 20:30 п
	о МСК. Сбор начинае
	тся в 20:20. При сбо
	ре приоритет у записа
	вшихся. Если вы запис
	ались\, но не пришли д
	о 20:30\, ваше место может
	 занять любой желающий из ч
	ата.\n\n\n\n	Требования:\n\n\n\n		З
	вание гильдии - Рейдер или выше\n	\n
		\n		Discord\n	\n	\n		Табард гильдии\n	\
	n	\n		DLC Гильдия воров или подписка\n	\
	n\n	Состав:\n\n\n\n		2 танка\n	\n	\n		2 лекаря\n	
	\n	\n		8 бойцов\n	\n\n	Обсужд
	ение в канале ди
	скорда #vet-пасть_лор
	хаджа\nПриоритет у состава с предыдуще
	го рейда!!!\n\n
DTSTART:20210821T173000Z
DTEND:20210821T173500Z
ATTENDEE;CN="Элис";CUTYPE=INDIVIDUAL;PARTSTAT=ACCEPTED:w
	eb@bandits-clan.ru
ATTENDEE;CN="DarkQueen";CUTYPE=INDIVIDUAL;PARTSTAT=ACCEPTED:
	web@bandits-clan.ru
ATTENDEE;CN="BoshkiShishki";CUTYPE=INDIVIDUAL;PARTSTAT=ACCEP
	TED:web@bandits-clan.ru
ATTENDEE;CN="DmitryMikh";CUTYPE=INDIVIDUAL;PARTSTAT=ACCEPTED
	:web@bandits-clan.ru
ATTENDEE;CN="DetFix";CUTYPE=INDIVIDUAL;PARTSTAT=ACCEPTED:web
	@bandits-clan.ru
ATTENDEE;CN="berserk540";CUTYPE=INDIVIDUAL;PARTSTAT=ACCEPTED
	:web@bandits-clan.ru
END:VEVENT
END:VCALENDAR
