BEGIN:VCALENDAR
VERSION:2.0
PRODID:-//InvisionCommunity Events 4.7.14//EN
METHOD:PUBLISH
CALSCALE:GREGORIAN
REFRESH-INTERVAL:PT15M
X-PUBLISHED-TTL:PT15M
X-WR-CALNAME:The Elder Scrolls Online
NAME:The Elder Scrolls Online
BEGIN:VTIMEZONE
TZID:Europe/London
TZURL:http://tzurl.org/zoneinfo/Europe/London
X-LIC-LOCATION:Europe/London
BEGIN:DAYLIGHT
TZOFFSETFROM:+0000
TZOFFSETTO:+0100
TZNAME:BST
DTSTART:20210328T020000Z
RRULE:FREQ=YEARLY;BYMONTH=3;BYDAY=-1SU
END:DAYLIGHT
BEGIN:STANDARD
TZOFFSETFROM:+0100
TZOFFSETTO:+0000
TZNAME:GMT
DTSTART:20211031T020000Z
RRULE:FREQ=YEARLY;BYMONTH=10;BYDAY=-1SU
END:STANDARD
END:VTIMEZONE
BEGIN:VEVENT
SUMMARY:[TESO] Аттестация \"Терзаем с
	келетов\" в гостях у Элис
DTSTAMP:20210722T172019Z
SEQUENCE:0
UID:9363-1-afb15bc42254ad5fb0481ce5e9c8144d@forum.bandits-clan.ru
ORGANIZER;CN="Элис":web@bandits-clan.ru
DESCRIPTION:\n	Приглаша
	ю всех жела
	ющих бить\
	, хилять и танк
	овать  потерзать ск
	елетов у меня дома в
	 воскресенье к 15-00 по м
	ск \n\n	В программ
	е мероприятия:\
	n\n	- разбор все
	х возможных с
	пособов оказ
	ывать первую 
	(вторую и третью) по
	мощь\, реанимацию
	 и криогенную зам
	орозку\,\n\n	- по
	 желанию м
	ожем откло
	ниться в стор
	ону ковыряния 
	скелетов чайными лож
	ечками\, вилочками\, 
	ломом и арматурой\,\n\n	- и та
	нкам тоже найдем занятие\n\n\n	Аддо
	н Bandits User Inteface приносить с собой !\n\n
DTSTART:20210725T120000Z
DTEND:20210725T130000Z
ATTENDEE;CN="Элис";CUTYPE=INDIVIDUAL;PARTSTAT=ACCEPTED:w
	eb@bandits-clan.ru
ATTENDEE;CN="DarkQueen";CUTYPE=INDIVIDUAL;PARTSTAT=ACCEPTED:
	web@bandits-clan.ru
ATTENDEE;CN="berserk540";CUTYPE=INDIVIDUAL;PARTSTAT=ACCEPTED
	:web@bandits-clan.ru
ATTENDEE;CN="@demondis";CUTYPE=INDIVIDUAL;PARTSTAT=ACCEPTED:
	web@bandits-clan.ru
END:VEVENT
END:VCALENDAR
