BEGIN:VCALENDAR
VERSION:2.0
PRODID:-//InvisionCommunity Events 4.7.14//EN
METHOD:PUBLISH
CALSCALE:GREGORIAN
REFRESH-INTERVAL:PT15M
X-PUBLISHED-TTL:PT15M
X-WR-CALNAME:The Elder Scrolls Online
NAME:The Elder Scrolls Online
BEGIN:VTIMEZONE
TZID:Europe/London
TZURL:http://tzurl.org/zoneinfo/Europe/London
X-LIC-LOCATION:Europe/London
BEGIN:DAYLIGHT
TZOFFSETFROM:+0000
TZOFFSETTO:+0100
TZNAME:BST
DTSTART:20210328T020000Z
RRULE:FREQ=YEARLY;BYMONTH=3;BYDAY=-1SU
END:DAYLIGHT
BEGIN:STANDARD
TZOFFSETFROM:+0100
TZOFFSETTO:+0000
TZNAME:GMT
DTSTART:20211031T020000Z
RRULE:FREQ=YEARLY;BYMONTH=10;BYDAY=-1SU
END:STANDARD
END:VTIMEZONE
BEGIN:VEVENT
SUMMARY:[TESO] Нормальное испытание Залы 
	Фабрикации (nHOF)
DTSTAMP:20210704T190645Z
SEQUENCE:0
UID:9327-1-afb15bc42254ad5fb0481ce5e9c8144d@forum.bandits-clan.ru
ORGANIZER;CN="AlenkKa":web@bandits-clan.ru
DESCRIPTION:\n	Если вы записа
	лись\, но не приш
	ли до начала соб
	ытия\, то ваше место 
	может занять любой желающий из
	 чата.\n\n\n\n	Требования:\n\n\n\n		160 О
	чков Героя\n	\n	\n		DLC Морровинд или подписк
	а ESO+\n	\n	\n		Discord\n	\n	\n		Табард гильдии\n	\n\n
		Состав:\n\n\n\n		1 танк\n	\n	\n		2 лекаря\n	\n	\n		
	9 бойцов\n	\n
DTSTART:20210706T140000Z
DTEND:20210706T150000Z
ATTENDEE;CN="AlenkKa";CUTYPE=INDIVIDUAL;PARTSTAT=ACCEPTED:we
	b@bandits-clan.ru
ATTENDEE;CN="Vorrush";CUTYPE=INDIVIDUAL;PARTSTAT=ACCEPTED:we
	b@bandits-clan.ru
ATTENDEE;CN="Askerag";CUTYPE=INDIVIDUAL;PARTSTAT=ACCEPTED:we
	b@bandits-clan.ru
END:VEVENT
END:VCALENDAR
