BEGIN:VCALENDAR
VERSION:2.0
PRODID:-//InvisionCommunity Events 4.7.14//EN
METHOD:PUBLISH
CALSCALE:GREGORIAN
REFRESH-INTERVAL:PT15M
X-PUBLISHED-TTL:PT15M
X-WR-CALNAME:The Elder Scrolls Online
NAME:The Elder Scrolls Online
BEGIN:VTIMEZONE
TZID:Europe/London
TZURL:http://tzurl.org/zoneinfo/Europe/London
X-LIC-LOCATION:Europe/London
BEGIN:DAYLIGHT
TZOFFSETFROM:+0000
TZOFFSETTO:+0100
TZNAME:BST
DTSTART:20210328T020000Z
RRULE:FREQ=YEARLY;BYMONTH=3;BYDAY=-1SU
END:DAYLIGHT
BEGIN:STANDARD
TZOFFSETFROM:+0100
TZOFFSETTO:+0000
TZNAME:GMT
DTSTART:20211031T020000Z
RRULE:FREQ=YEARLY;BYMONTH=10;BYDAY=-1SU
END:STANDARD
END:VTIMEZONE
BEGIN:VEVENT
SUMMARY:[TESO] Нормальное испытание Солн
	ечный шпиль (nSS)
DTSTAMP:20210621T071211Z
SEQUENCE:0
UID:9293-1-afb15bc42254ad5fb0481ce5e9c8144d@forum.bandits-clan.ru
ORGANIZER;CN="Элис":web@bandits-clan.ru
DESCRIPTION:\n	Приглаш
	аю всех желающих п
	ойти испытание Солнечный шпиль\,
	 получить сеты Claw of Yolnahkriin\, False God's Devotion\,
	 Tooth of Lokkestiiz\, Eye of Nahviintaas\n\n	Начало с
	обытия 19:30 по МСК. Сбор
	 начинается в 19:30.
	 Игроки\, запис
	авшиеся на соб
	ытие\, приглашаю
	тся в рейд в при
	оритете. Если вы
	 записались\, но
	 не пришли к ук
	азанному времени\, 
	ваше место может занять любой 
	желающий.\n\n\n\n	Требования:\n\n\n\n		160 Очк
	ов Героя\n	\n	\n		Discord\n	\n	\n		Табар
	д гильдии\n	\n	\n		Игров
	ое дополнение Эльсвейр или подпис
	ка\n	\n\n	Состав:\n\n\n\n		1 танк\n	\n	\n		2 лекар
	я\n	\n	\n		9 бойцов\n	\n\n	Вопросы и
	 обсуждения онлайн в Discord\, канал #novice-raid\
	n\n\n\n\n	 \n
DTSTART:20210621T163000Z
DTEND:20210621T163500Z
ATTENDEE;CN="Элис";CUTYPE=INDIVIDUAL;PARTSTAT=ACCEPTED:w
	eb@bandits-clan.ru
ATTENDEE;CN="Spilner80";CUTYPE=INDIVIDUAL;PARTSTAT=ACCEPTED:
	web@bandits-clan.ru
END:VEVENT
END:VCALENDAR
