BEGIN:VCALENDAR
VERSION:2.0
PRODID:-//InvisionCommunity Events 4.7.14//EN
METHOD:PUBLISH
CALSCALE:GREGORIAN
REFRESH-INTERVAL:PT15M
X-PUBLISHED-TTL:PT15M
X-WR-CALNAME:The Elder Scrolls Online
NAME:The Elder Scrolls Online
BEGIN:VTIMEZONE
TZID:Europe/London
TZURL:http://tzurl.org/zoneinfo/Europe/London
X-LIC-LOCATION:Europe/London
BEGIN:DAYLIGHT
TZOFFSETFROM:+0000
TZOFFSETTO:+0100
TZNAME:BST
DTSTART:20210328T020000Z
RRULE:FREQ=YEARLY;BYMONTH=3;BYDAY=-1SU
END:DAYLIGHT
BEGIN:STANDARD
TZOFFSETFROM:+0100
TZOFFSETTO:+0000
TZNAME:GMT
DTSTART:20211031T020000Z
RRULE:FREQ=YEARLY;BYMONTH=10;BYDAY=-1SU
END:STANDARD
END:VTIMEZONE
BEGIN:VEVENT
SUMMARY:[TESO] Нормальное испытание
	 по выбору группы (nMol / nHof / nAs)
DTSTAMP:20210606T123214Z
SEQUENCE:0
UID:9256-1-afb15bc42254ad5fb0481ce5e9c8144d@forum.bandits-clan.ru
ORGANIZER;CN="Элис":web@bandits-clan.ru
DESCRIPTION:\n	Предлагаю
	 пройти одно и
	з нормальных
	 испытаний : 
	Пасть Лорхадж
	а\, Залы Фабрикаци
	и или Изоляционны
	й Санктуарий\, по
	 выбору группы.
	\n\n	При сборе пр
	иоритет у зап
	исавшихся. Если 
	вы записались\, 
	но не пришли д
	о начала события\, 
	то ваше место может зан
	ять любой желающий из чата.\n\n\
	n\n	Требования:\n\n\n\n		160 Очков Героя\n	\n	\n
			Discord\n	\n	\n		Табард гильдии\n	\n	\
	n		Дополнения или подписка\n	\n\n	Сос
	тав:\n\n\n\n		1 танк\n	\n	\n		2 лекаря\n	\n	\n		9 бойц
	ов\n	\n
DTSTART:20210611T163000Z
DTEND:20210611T163500Z
ATTENDEE;CN="Элис";CUTYPE=INDIVIDUAL;PARTSTAT=ACCEPTED:w
	eb@bandits-clan.ru
ATTENDEE;CN="Spilner80";CUTYPE=INDIVIDUAL;PARTSTAT=ACCEPTED:
	web@bandits-clan.ru
ATTENDEE;CN="DarkQueen";CUTYPE=INDIVIDUAL;PARTSTAT=ACCEPTED:
	web@bandits-clan.ru
ATTENDEE;CN="Beshka78";CUTYPE=INDIVIDUAL;PARTSTAT=ACCEPTED:w
	eb@bandits-clan.ru
ATTENDEE;CN="Shadowklin";CUTYPE=INDIVIDUAL;PARTSTAT=ACCEPTED
	:web@bandits-clan.ru
ATTENDEE;CN="BoshkiShishki";CUTYPE=INDIVIDUAL;PARTSTAT=ACCEP
	TED:web@bandits-clan.ru
ATTENDEE;CN="Argell";CUTYPE=INDIVIDUAL;PARTSTAT=ACCEPTED:web
	@bandits-clan.ru
ATTENDEE;CN="Slyccat";CUTYPE=INDIVIDUAL;PARTSTAT=ACCEPTED:we
	b@bandits-clan.ru
END:VEVENT
END:VCALENDAR
