BEGIN:VCALENDAR
VERSION:2.0
PRODID:-//InvisionCommunity Events 4.7.14//EN
METHOD:PUBLISH
CALSCALE:GREGORIAN
REFRESH-INTERVAL:PT15M
X-PUBLISHED-TTL:PT15M
X-WR-CALNAME:The Elder Scrolls Online
NAME:The Elder Scrolls Online
BEGIN:VTIMEZONE
TZID:Europe/London
TZURL:http://tzurl.org/zoneinfo/Europe/London
X-LIC-LOCATION:Europe/London
BEGIN:DAYLIGHT
TZOFFSETFROM:+0000
TZOFFSETTO:+0100
TZNAME:BST
DTSTART:20210328T020000Z
RRULE:FREQ=YEARLY;BYMONTH=3;BYDAY=-1SU
END:DAYLIGHT
BEGIN:STANDARD
TZOFFSETFROM:+0100
TZOFFSETTO:+0000
TZNAME:GMT
DTSTART:20211031T020000Z
RRULE:FREQ=YEARLY;BYMONTH=10;BYDAY=-1SU
END:STANDARD
END:VTIMEZONE
BEGIN:VEVENT
SUMMARY:[TESO] Ветеранское событие Каменна
	я Роща (vet Rockgrove)
DTSTAMP:20210606T100710Z
SEQUENCE:0
UID:9254-1-afb15bc42254ad5fb0481ce5e9c8144d@forum.bandits-clan.ru
ORGANIZER;CN="Lisbrainy":web@bandits-clan.ru
DESCRIPTION:\n	Траим ветеранский триал 
	Rockgrove.\n\n\n\n	Требования: Общ
	ие требования - от 600 ОГ
	\, глава Черный лес ДД 
	- дпс от 65к в рейдового ат
	ронаха 21кк (амальгаму)\
	n\n\n\n	Танки: иметь акту
	альные сеты (Йолнакрин\, ПА
	\, Галенве\, Ворм и др.)\n\n\n\n	Всем иметь а
	ддоны Qcell's Rockgrove Helper\, Raid Notifier и Hodor Reflexes!\n\
	n\n\n	Готовность слушать\, развиваться\, 
	прогрессировать.\n
DTSTART:20210610T160000Z
ATTENDEE;CN="Shadowklin";CUTYPE=INDIVIDUAL;PARTSTAT=ACCEPTED
	:web@bandits-clan.ru
END:VEVENT
END:VCALENDAR
