BEGIN:VCALENDAR
VERSION:2.0
PRODID:-//InvisionCommunity Events 4.7.14//EN
METHOD:PUBLISH
CALSCALE:GREGORIAN
REFRESH-INTERVAL:PT15M
X-PUBLISHED-TTL:PT15M
X-WR-CALNAME:The Elder Scrolls Online
NAME:The Elder Scrolls Online
BEGIN:VTIMEZONE
TZID:Europe/London
TZURL:http://tzurl.org/zoneinfo/Europe/London
X-LIC-LOCATION:Europe/London
BEGIN:DAYLIGHT
TZOFFSETFROM:+0000
TZOFFSETTO:+0100
TZNAME:BST
DTSTART:20210328T020000Z
RRULE:FREQ=YEARLY;BYMONTH=3;BYDAY=-1SU
END:DAYLIGHT
BEGIN:STANDARD
TZOFFSETFROM:+0100
TZOFFSETTO:+0000
TZNAME:GMT
DTSTART:20211031T020000Z
RRULE:FREQ=YEARLY;BYMONTH=10;BYDAY=-1SU
END:STANDARD
END:VTIMEZONE
BEGIN:VEVENT
SUMMARY:[TESO] Небесны
	е осколки и публичные подземелья Ввард
	енфелла
DTSTAMP:20210526T162652Z
SEQUENCE:0
UID:9222-1-afb15bc42254ad5fb0481ce5e9c8144d@forum.bandits-clan.ru
ORGANIZER;CN="Dmitriyvaulin":web@bandits-clan.ru
DESCRIPTION:\n	Приглаш
	аю всех на
	 прохожд
	ение публ
	ичных под
	земелий и с
	бор небесных осколко
	в на Вварденфелле - Забыты
	е пустоши (ориг.Forgotten Wastes)\, Нчул
	ефтинг (ориг.Nzhuleftingth). ЛВЛ не 
	важен.\n\n\n\n	В Забытых п
	устошах\n\n\n\n		В
	 Родовой гробниц
	а Дринитов можно найти книг
	и: Дневник прорицателя (Divin
	er's Journal)\, Проповедь пробуждающего (Waken
	er's Sermon).\n	\n	\n		В Пещера
	х Когоруна можно найти книги:
	 Указ стража (Guardian's Decree)\, Приказы 
	о раскопках (Excavation Orders).\n	\n
		\n		В том числе
	 для своей 
	коллекции собра
	ть части для красивого костюм
	а: Мантия Шестого Дома (Sixth House Robe C
	ostume).\n	\n\n	В Нчулефтинге\n\n\
	n\n		В этом подз
	емелье\, в
	ы можете заработа
	ть бесплатного питомца\, Двемерско
	го теодолита (Dwemer Theodolite).\n	\n
DTSTART:20210530T160000Z
END:VEVENT
END:VCALENDAR
