BEGIN:VCALENDAR
VERSION:2.0
PRODID:-//InvisionCommunity Events 4.7.14//EN
METHOD:PUBLISH
CALSCALE:GREGORIAN
REFRESH-INTERVAL:PT15M
X-PUBLISHED-TTL:PT15M
X-WR-CALNAME:The Elder Scrolls Online
NAME:The Elder Scrolls Online
BEGIN:VTIMEZONE
TZID:Europe/London
TZURL:http://tzurl.org/zoneinfo/Europe/London
X-LIC-LOCATION:Europe/London
BEGIN:DAYLIGHT
TZOFFSETFROM:+0000
TZOFFSETTO:+0100
TZNAME:BST
DTSTART:20210328T020000Z
RRULE:FREQ=YEARLY;BYMONTH=3;BYDAY=-1SU
END:DAYLIGHT
BEGIN:STANDARD
TZOFFSETFROM:+0100
TZOFFSETTO:+0000
TZNAME:GMT
DTSTART:20211031T020000Z
RRULE:FREQ=YEARLY;BYMONTH=10;BYDAY=-1SU
END:STANDARD
END:VTIMEZONE
BEGIN:VEVENT
SUMMARY:[TESO] Ветеранское и
	спытание Цитадель Хел Ра +Хард Мод (vHRC HM)
DTSTAMP:20210520T053348Z
SEQUENCE:0
UID:9203-1-afb15bc42254ad5fb0481ce5e9c8144d@forum.bandits-clan.ru
ORGANIZER;CN="Kubik":web@bandits-clan.ru
DESCRIPTION:\n	Приглаш
	аю всех желающих прой
	ти испытание Цитадель 
	Хел Ра вет. +Хард Мод.\n\n\n\n	Необх
	одимый состав:\n\n\n\n		2 Танка\n	\n	\n		2 Ле
	каря\n	\n	\n		8 Бойцов\n	\n\n	Обязательные адд
	оны:\n\n\n\n		Bandits User Interface\n	\n\n	Требова
	ния для участия:\n\n\n\n		Звание Bandit/Б
	андит\n	\n	\n		Discord и наличие микроф
	она\n	\n	\n		Табард гильдии Daggerfall Bandits / Bandi
	ts Clan\n	\n\n	Для по
	дтверждения участ
	ия необходимо отметиться
	 в календаре:\n\n\n\n		Нажать 
	кнопку Пойду\n	\n	\n		Указать
	 свою роль и ID в коммен
	тариях\n	\n	\n		Если
	 по каким-то пр
	ичинам не пол
	учится прийти\, отп
	исаться в коммент
	ариях\, изменив свое сообщение\
	n	\n\n	Описание испытания:\n\n\n\n	 \n\n\n\n\n	 \n
DTSTART:20210523T170000Z
DTEND:20210523T170500Z
ATTENDEE;CN="Kubik";CUTYPE=INDIVIDUAL;PARTSTAT=ACCEPTED:web@
	bandits-clan.ru
ATTENDEE;CN="Brodel";CUTYPE=INDIVIDUAL;PARTSTAT=ACCEPTED:web
	@bandits-clan.ru
END:VEVENT
END:VCALENDAR
