BEGIN:VCALENDAR
VERSION:2.0
PRODID:-//InvisionCommunity Events 4.7.14//EN
METHOD:PUBLISH
CALSCALE:GREGORIAN
REFRESH-INTERVAL:PT15M
X-PUBLISHED-TTL:PT15M
X-WR-CALNAME:The Elder Scrolls Online
NAME:The Elder Scrolls Online
BEGIN:VTIMEZONE
TZID:Europe/London
TZURL:http://tzurl.org/zoneinfo/Europe/London
X-LIC-LOCATION:Europe/London
BEGIN:DAYLIGHT
TZOFFSETFROM:+0000
TZOFFSETTO:+0100
TZNAME:BST
DTSTART:20210328T020000Z
RRULE:FREQ=YEARLY;BYMONTH=3;BYDAY=-1SU
END:DAYLIGHT
BEGIN:STANDARD
TZOFFSETFROM:+0100
TZOFFSETTO:+0000
TZNAME:GMT
DTSTART:20211031T020000Z
RRULE:FREQ=YEARLY;BYMONTH=10;BYDAY=-1SU
END:STANDARD
END:VTIMEZONE
BEGIN:VEVENT
SUMMARY:[TESO] Клаудрест нормал режим (nAS+0)
DTSTAMP:20210517T053606Z
SEQUENCE:0
UID:9201-1-afb15bc42254ad5fb0481ce5e9c8144d@forum.bandits-clan.ru
ORGANIZER;CN="F4N7":web@bandits-clan.ru
DESCRIPTION:\n	В 14-30 по МСК\n\n\n\n	Пр
	иглашаю всех желающих 
	от 220 ОГ пройти учебное норма
	л Клаудрест(nCR)\n\n\n\n	Состав:\n\n	2 т
	анка\, 2 хила\, 8 дд\n\n\n\n	Тр
	ебования:\n\n	- Для танка
	 и хилера - аттестация нормал\
	n\n	- Для дд - наличие дпс 20 000+\n\
	n	- Установленные аддоны Code's Combat Alerts\, Ra
	id Notifier и Hodor Reflexes\n\n	- Наличие
	 одетой гидейской накидки\n
	\n\n\n	Длительность рейда 1
	.5 час. \n\n\n\n	Сбор: гол
	ос дискорд в комнате 
	Триал 1\, в игре гильд
	холл\n\n\n\n	Для участи
	я нажимайте слев
	а на кнопку \"По
	йду\"\, а в комментарии внизу пишите свою
	 роль и игровой ID\n
DTSTART:20210518T123000Z
DTEND:20210518T123500Z
ATTENDEE;CN="F4N7";CUTYPE=INDIVIDUAL;PARTSTAT=ACCEPTED:web@b
	andits-clan.ru
ATTENDEE;CN="A1ex25";CUTYPE=INDIVIDUAL;PARTSTAT=ACCEPTED:web
	@bandits-clan.ru
END:VEVENT
END:VCALENDAR
