BEGIN:VCALENDAR
VERSION:2.0
PRODID:-//InvisionCommunity Events 4.7.14//EN
METHOD:PUBLISH
CALSCALE:GREGORIAN
REFRESH-INTERVAL:PT15M
X-PUBLISHED-TTL:PT15M
X-WR-CALNAME:The Elder Scrolls Online
NAME:The Elder Scrolls Online
BEGIN:VTIMEZONE
TZID:Europe/London
TZURL:http://tzurl.org/zoneinfo/Europe/London
X-LIC-LOCATION:Europe/London
BEGIN:DAYLIGHT
TZOFFSETFROM:+0000
TZOFFSETTO:+0100
TZNAME:BST
DTSTART:20210328T020000Z
RRULE:FREQ=YEARLY;BYMONTH=3;BYDAY=-1SU
END:DAYLIGHT
BEGIN:STANDARD
TZOFFSETFROM:+0100
TZOFFSETTO:+0000
TZNAME:GMT
DTSTART:20211031T020000Z
RRULE:FREQ=YEARLY;BYMONTH=10;BYDAY=-1SU
END:STANDARD
END:VTIMEZONE
BEGIN:VEVENT
SUMMARY:[TESO] Нормальное испытание Эгида
	 Кин (nKA)
DTSTAMP:20210516T151644Z
SEQUENCE:0
UID:9195-1-afb15bc42254ad5fb0481ce5e9c8144d@forum.bandits-clan.ru
ORGANIZER;CN="Элис":web@bandits-clan.ru
DESCRIPTION:\n	 \n\n\n\n	Приг
	лашаю всех желающих п
	ойти испытание Эгида Кин\, получить се
	ты Kyne's Wind\, Roaring Opportunist\, Vrol's Command\, Yandir's Mig
	ht\n\n	Начало события 19:30 по 
	МСК. Сбор начинается
	 в 19:30. Игроки\, за
	писавшиеся на
	 событие\, пригла
	шаются в рейд в
	 приоритете. Есл
	и вы записались\
	, но не пришли 
	к указанному времени
	\, ваше место может занять любо
	й желающий.\n\n\n\n	Требования:\n\n\n\n		160 
	Очков Героя\n	\n	\n		Discord\n	\n	\n		Та
	бард гильдии\n	\n	\n		
	Игровое дополнение Греймур и
	ли подписка\n	\n\n	Состав:\n\n\n\n		1 танк\n	\
	n	\n		2 лекаря\n	\n	\n		9 бойцов\n	\
	n\n	Вопросы и обсуждения онлайн в Discord\
	, канал #novice-raid\n\n\n\n\n	 \n
DTSTART:20210521T163000Z
DTEND:20210521T163500Z
ATTENDEE;CN="Элис";CUTYPE=INDIVIDUAL;PARTSTAT=ACCEPTED:w
	eb@bandits-clan.ru
ATTENDEE;CN="ВУЕГ";CUTYPE=INDIVIDUAL;PARTSTAT=ACCEPTED:w
	eb@bandits-clan.ru
ATTENDEE;CN="DarkQueen";CUTYPE=INDIVIDUAL;PARTSTAT=ACCEPTED:
	web@bandits-clan.ru
ATTENDEE;CN="KitzyTyzy";CUTYPE=INDIVIDUAL;PARTSTAT=ACCEPTED:
	web@bandits-clan.ru
ATTENDEE;CN="diE6";CUTYPE=INDIVIDUAL;PARTSTAT=ACCEPTED:web@b
	andits-clan.ru
ATTENDEE;CN="Aryusik";CUTYPE=INDIVIDUAL;PARTSTAT=ACCEPTED:we
	b@bandits-clan.ru
ATTENDEE;CN="Spilner80";CUTYPE=INDIVIDUAL;PARTSTAT=ACCEPTED:
	web@bandits-clan.ru
END:VEVENT
END:VCALENDAR
