BEGIN:VCALENDAR
VERSION:2.0
PRODID:-//InvisionCommunity Events 4.7.14//EN
METHOD:PUBLISH
CALSCALE:GREGORIAN
REFRESH-INTERVAL:PT15M
X-PUBLISHED-TTL:PT15M
X-WR-CALNAME:The Elder Scrolls Online
NAME:The Elder Scrolls Online
BEGIN:VTIMEZONE
TZID:Europe/London
TZURL:http://tzurl.org/zoneinfo/Europe/London
X-LIC-LOCATION:Europe/London
BEGIN:DAYLIGHT
TZOFFSETFROM:+0000
TZOFFSETTO:+0100
TZNAME:BST
DTSTART:20210328T020000Z
RRULE:FREQ=YEARLY;BYMONTH=3;BYDAY=-1SU
END:DAYLIGHT
BEGIN:STANDARD
TZOFFSETFROM:+0100
TZOFFSETTO:+0000
TZNAME:GMT
DTSTART:20211031T020000Z
RRULE:FREQ=YEARLY;BYMONTH=10;BYDAY=-1SU
END:STANDARD
END:VTIMEZONE
BEGIN:VEVENT
SUMMARY:[TESO] обучающее испытание 
	вет Солнечный шпиль (Sun Spire)
DTSTAMP:20210512T212515Z
SEQUENCE:0
UID:9191-1-afb15bc42254ad5fb0481ce5e9c8144d@forum.bandits-clan.ru
ORGANIZER;CN="Semeckiy ":web@bandits-clan.ru
DESCRIPTION:\n	Пригл
	ашаю согильдийцев
	 поучиться проходить вете
	ранскую версию триала Sun Spire.\
	n\n\n\n	Приглашаются 2 танка\,
	 2 хила\, 8 дд. \n\n\
	n\n	Обязательна установ
	ка и настройка следующих аддонов:\n\n	Все
	м:\nhttps://www.esoui.com/downloads/info1855-CodesCombatAlerts.html\nhttp
	s://www.esoui.com/downloads/info2430-HowToSunspire.html\nhttps://www.esoui
	.com/downloads/info2311-HodorReflexes-DPSUltimateShare.html\n\n	Танк
	ам:\nhttps://www.esoui.com/downloads/info1475-Untaunted.html\nhttps://ww
	w.esoui.com/downloads/info2555-StaggerTracker.html\n\n\n\n	Три
	ал сложный
	\, настоящ
	ее ветеранское
	 приключение. Поэт
	ому будут определе
	нные требования: от
	 600 чп\, у танков
	 и хилов на
	личие обяза
	тельных сето
	в (прошу хилов 
	ознакомиться 
	с актуальным 
	гайдом от Лисбрейн
	и)\, у дд наличие мин
	имально приличного
	 дпс-а от 30к. Будет
	 супер\, если дд 
	соберут сетап п
	од треш паки (мас
	терский грозовой п
	осох\, бсв\, механик
	л акьюити\, нью
	 мун аколайт и
	 проч.)\, обяза
	тельное испо
	льзование нор
	мальных банок 
	и проч.\, откл
	юченная ано
	нимность. Д
	о начала соб
	ытия хилам и 
	танкам догов
	ориться об ис
	пользовании с
	етов\, чтобы баф
	ы не пересекались. Хил
	ам иметь сетап на бурст
	овый отхил.\n\n\n\n	Cбор в г
	ильдхолле за 30 ми
	нут до начала соб
	ытия (20:30 МСК). При
	сутствие в дискорде 
	обязательно (хотя бы
	 на приём).\n\n\n\n	Пр
	ошу записыв
	аться заране
	е. Приоритет дд\, проше
	дшим аттестацию и участвовавшим в рейде 
	12/05/2021.\n\n\n\n	 \n
DTSTART:20210519T180000Z
ATTENDEE;CN="Semeckiy ";CUTYPE=INDIVIDUAL;PARTSTAT=ACCEPTED:
	web@bandits-clan.ru
ATTENDEE;CN="Dmitriyvaulin";CUTYPE=INDIVIDUAL;PARTSTAT=ACCEP
	TED:web@bandits-clan.ru
ATTENDEE;CN="Deadmorose";CUTYPE=INDIVIDUAL;PARTSTAT=ACCEPTED
	:web@bandits-clan.ru
ATTENDEE;CN="Brodel";CUTYPE=INDIVIDUAL;PARTSTAT=ACCEPTED:web
	@bandits-clan.ru
ATTENDEE;CN="KitzyTyzy";CUTYPE=INDIVIDUAL;PARTSTAT=ACCEPTED:
	web@bandits-clan.ru
END:VEVENT
END:VCALENDAR
