BEGIN:VCALENDAR
VERSION:2.0
PRODID:-//InvisionCommunity Events 4.7.14//EN
METHOD:PUBLISH
CALSCALE:GREGORIAN
REFRESH-INTERVAL:PT15M
X-PUBLISHED-TTL:PT15M
X-WR-CALNAME:The Elder Scrolls Online
NAME:The Elder Scrolls Online
BEGIN:VTIMEZONE
TZID:Europe/London
TZURL:http://tzurl.org/zoneinfo/Europe/London
X-LIC-LOCATION:Europe/London
BEGIN:DAYLIGHT
TZOFFSETFROM:+0000
TZOFFSETTO:+0100
TZNAME:BST
DTSTART:20210328T020000Z
RRULE:FREQ=YEARLY;BYMONTH=3;BYDAY=-1SU
END:DAYLIGHT
BEGIN:STANDARD
TZOFFSETFROM:+0100
TZOFFSETTO:+0000
TZNAME:GMT
DTSTART:20211031T020000Z
RRULE:FREQ=YEARLY;BYMONTH=10;BYDAY=-1SU
END:STANDARD
END:VTIMEZONE
BEGIN:VEVENT
SUMMARY:[TESO] Собрание гильдий в дискорде
DTSTAMP:20210501T055226Z
SEQUENCE:0
UID:9153-1-afb15bc42254ad5fb0481ce5e9c8144d@forum.bandits-clan.ru
ORGANIZER;CN="Kubik":web@bandits-clan.ru
DESCRIPTION:\n	Друзья\, приглаша
	ю всех на собрание Сообщества Bandits в The Elde
	r Scrolls Online.\n\n\n\n	Начало собрания в 1
	4:00 МСК.\n\n\n\n	Прошу 
	прийти максим
	ально всех\, буд
	ем обсуждать п
	ланы на ближай
	шее будущее\, цел
	и гильдии\, потребности и активнос
	ти. Рассчитываем на 1\,5 часа.\n
DTSTART:20210501T110000Z
DTEND:20210501T123000Z
END:VEVENT
END:VCALENDAR
