BEGIN:VCALENDAR
VERSION:2.0
PRODID:-//InvisionCommunity Events 4.7.14//EN
METHOD:PUBLISH
CALSCALE:GREGORIAN
REFRESH-INTERVAL:PT15M
X-PUBLISHED-TTL:PT15M
X-WR-CALNAME:The Elder Scrolls Online
NAME:The Elder Scrolls Online
BEGIN:VTIMEZONE
TZID:Europe/London
TZURL:http://tzurl.org/zoneinfo/Europe/London
X-LIC-LOCATION:Europe/London
BEGIN:DAYLIGHT
TZOFFSETFROM:+0000
TZOFFSETTO:+0100
TZNAME:BST
DTSTART:20210328T020000Z
RRULE:FREQ=YEARLY;BYMONTH=3;BYDAY=-1SU
END:DAYLIGHT
BEGIN:STANDARD
TZOFFSETFROM:+0100
TZOFFSETTO:+0000
TZNAME:GMT
DTSTART:20211031T020000Z
RRULE:FREQ=YEARLY;BYMONTH=10;BYDAY=-1SU
END:STANDARD
END:VTIMEZONE
BEGIN:VEVENT
SUMMARY:[TESO] Ветеранское испытание Кл
	аудрест +0 (vCR+0)
DTSTAMP:20210427T052426Z
SEQUENCE:0
UID:9143-1-afb15bc42254ad5fb0481ce5e9c8144d@forum.bandits-clan.ru
ORGANIZER;CN="Kubik":web@bandits-clan.ru
DESCRIPTION:\n	Требуется наличие DLC
	 или подписка ESO+\n\n\n\n	На
	чало события 14:00 по МСК.
	 Сбор начинается в 13:50. Ес
	ли вы записались\, но 
	не пришли до 14:00\, ваше
	 место может занять любой же
	лающий из чата.\n\n\n\n	Требования:\
	n\n\n\n		Нормал аттестация\n	\n	\n		DLC или по
	дписка ESO+\n	\n	\n		Discord\n	\n	\n		Табард гиль
	дии\n	\n\n	Состав:\n\n\n\n		3 танк\n	\n	\n		2 лек
	аря\n	\n	\n		7 бойцов\n	\n\n	Описание испытания:
	\n\n\n\n\n	 \n
DTSTART:20210427T110000Z
DTEND:20210427T110500Z
ATTENDEE;CN="burava1";CUTYPE=INDIVIDUAL;PARTSTAT=ACCEPTED:we
	b@bandits-clan.ru
ATTENDEE;CN="Baltazar";CUTYPE=INDIVIDUAL;PARTSTAT=ACCEPTED:w
	eb@bandits-clan.ru
END:VEVENT
END:VCALENDAR
