BEGIN:VCALENDAR
VERSION:2.0
PRODID:-//InvisionCommunity Events 4.7.14//EN
METHOD:PUBLISH
CALSCALE:GREGORIAN
REFRESH-INTERVAL:PT15M
X-PUBLISHED-TTL:PT15M
X-WR-CALNAME:The Elder Scrolls Online
NAME:The Elder Scrolls Online
BEGIN:VTIMEZONE
TZID:Europe/London
TZURL:http://tzurl.org/zoneinfo/Europe/London
X-LIC-LOCATION:Europe/London
BEGIN:DAYLIGHT
TZOFFSETFROM:+0000
TZOFFSETTO:+0100
TZNAME:BST
DTSTART:20210328T020000Z
RRULE:FREQ=YEARLY;BYMONTH=3;BYDAY=-1SU
END:DAYLIGHT
BEGIN:STANDARD
TZOFFSETFROM:+0100
TZOFFSETTO:+0000
TZNAME:GMT
DTSTART:20211031T020000Z
RRULE:FREQ=YEARLY;BYMONTH=10;BYDAY=-1SU
END:STANDARD
END:VTIMEZONE
BEGIN:VEVENT
SUMMARY:[TESO] Ветеранское испытание Паст
	ь Лорхаджа (vMOL)
DTSTAMP:20210426T114739Z
SEQUENCE:0
UID:9139-1-afb15bc42254ad5fb0481ce5e9c8144d@forum.bandits-clan.ru
ORGANIZER;CN="Kubik":web@bandits-clan.ru
DESCRIPTION:\n	  Приг
	лашаю всех желаю
	щих пройти ветеранско
	е испытание Пасть Лорхад
	жа (vMOL) в 20:00 МСК. Прио
	ритет на людей\, которые о
	тметились в канале #vmol в диско
	рде.\n\n\n\n	Необходимый состав:\n\n\n\n		2
	 Танка\n	\n	\n		2 Лекаря\n	\n	\n		8 Бой
	цов\n	\n\n	Обязательные аддоны:\n\n\n\n		Bandits U
	ser Interface\n	\n\n	Требования для участи
	я:\n\n\n\n		DLC - Гильдия Воров или под
	писка.\n	\n	\n		Звание Bandit/Бандит\n	\
	n	\n		Discord и наличие микрофона\n	\n	\n		Т
	абард гильдии Daggerfall Bandits / Bandits Cl
	an\n	\n\n	Для подтвер
	ждения участия не
	обходимо отметиться в кал
	ендаре:\n\n\n\n		Нажать кнопку
	 Пойду\n	\n	\n		Указать свою р
	оль и ID в комментариях
	\n	\n	\n		Если по каки
	м-то причинам 
	не получится п
	рийти\, отписаться
	 в комментариях\, измени
	в свое сообщение\n	\n\n	Описание испытания:
	\n\n\n\n\n	 \n
DTSTART:20210430T170000Z
DTEND:20210430T170500Z
ATTENDEE;CN="Kubik";CUTYPE=INDIVIDUAL;PARTSTAT=ACCEPTED:web@
	bandits-clan.ru
ATTENDEE;CN="KitzyTyzy";CUTYPE=INDIVIDUAL;PARTSTAT=ACCEPTED:
	web@bandits-clan.ru
ATTENDEE;CN="Manjestik";CUTYPE=INDIVIDUAL;PARTSTAT=ACCEPTED:
	web@bandits-clan.ru
ATTENDEE;CN="delCero";CUTYPE=INDIVIDUAL;PARTSTAT=ACCEPTED:we
	b@bandits-clan.ru
END:VEVENT
END:VCALENDAR
