BEGIN:VCALENDAR
VERSION:2.0
PRODID:-//InvisionCommunity Events 4.7.14//EN
METHOD:PUBLISH
CALSCALE:GREGORIAN
REFRESH-INTERVAL:PT15M
X-PUBLISHED-TTL:PT15M
X-WR-CALNAME:The Elder Scrolls Online
NAME:The Elder Scrolls Online
BEGIN:VTIMEZONE
TZID:Europe/London
TZURL:http://tzurl.org/zoneinfo/Europe/London
X-LIC-LOCATION:Europe/London
BEGIN:DAYLIGHT
TZOFFSETFROM:+0000
TZOFFSETTO:+0100
TZNAME:BST
DTSTART:20210328T020000Z
RRULE:FREQ=YEARLY;BYMONTH=3;BYDAY=-1SU
END:DAYLIGHT
BEGIN:STANDARD
TZOFFSETFROM:+0100
TZOFFSETTO:+0000
TZNAME:GMT
DTSTART:20211031T020000Z
RRULE:FREQ=YEARLY;BYMONTH=10;BYDAY=-1SU
END:STANDARD
END:VTIMEZONE
BEGIN:VEVENT
SUMMARY:[TESO] обучающее испытание вет К
	лаудрест (Cloudrest)
DTSTAMP:20210426T095433Z
SEQUENCE:0
UID:9138-1-afb15bc42254ad5fb0481ce5e9c8144d@forum.bandits-clan.ru
ORGANIZER;CN="Semeckiy ":web@bandits-clan.ru
DESCRIPTION:\n	Пригл
	ашаю согильдийцев
	 поучиться проходить вете
	ранскую версию триала Cloudrest.\
	n\n\n\n	Приглашаются 2 танка\,
	 2 хила\, 8 дд.\n\n\n
	\n	Обязательна установк
	а и настройка следующих аддонов:\n\n	Всем:
	\nhttps://www.esoui.com/downloads/info1855-CodesCombatAlerts.html\nhttps:/
	/www.esoui.com/downloads/info2311-HodorReflexes-DPSUltimateShare.html\nhtt
	ps://www.esoui.com/downloads/info2055-OpenGlazaCloudrestAssistant.html\nht
	tps://www.esoui.com/downloads/info2255-Medusa.html (опциональ
	но)\n\n\n\n	Танкам:\nhttps://www.esoui.com/downloads/info1475-Unta
	unted.html\nhttps://www.esoui.com/downloads/info2555-StaggerTracker.html\n
	\n\n\n	Требования: от 6
	00 чп\, у танков
	 и хилов на
	личие обяза
	тельных сето
	в (прошу хилов 
	ознакомиться 
	с актуальным гайдом
	 от Лисбрейни)\, у
	 дд наличие м
	инимально дпс
	-а от 30к. Обяза
	тельное испо
	льзование нормал
	ьных банок и проч.
	\, отключенная а
	нонимность.\n\
	n	До начала со
	бытия хилам и
	 танкам догов
	ориться об испо
	льзовании сетов
	\, чтобы бафы не пе
	ресекались.\n\n	Жел
	ательные сетапы т
	анков: мейн йолка + кул
	ьт червя\, офф йолка +
	 мощный натиск \n\n	Cбор
	 в гильдхолле за 30 
	минут до начала с
	обытия (20:30 МСК).
	 Присутствие в ди
	скорде обязательно
	 (хотя бы на приём).\n
	\n	Не хочу добир
	ать кого попал
	о из гильд ча
	та\, поэтому
	 прошу всех п
	одойти отве
	тственно и запис
	ываться заранее. Приоритет дд\, прошед
	шим аттестацию.\n\n\n\n	 \n
DTSTART:20210428T180000Z
DTEND:20210428T180500Z
ATTENDEE;CN="Semeckiy ";CUTYPE=INDIVIDUAL;PARTSTAT=ACCEPTED:
	web@bandits-clan.ru
ATTENDEE;CN="Narmir";CUTYPE=INDIVIDUAL;PARTSTAT=ACCEPTED:web
	@bandits-clan.ru
ATTENDEE;CN="KitzyTyzy";CUTYPE=INDIVIDUAL;PARTSTAT=ACCEPTED:
	web@bandits-clan.ru
ATTENDEE;CN="Kubik";CUTYPE=INDIVIDUAL;PARTSTAT=ACCEPTED:web@
	bandits-clan.ru
END:VEVENT
END:VCALENDAR
