BEGIN:VCALENDAR
VERSION:2.0
PRODID:-//InvisionCommunity Events 4.7.14//EN
METHOD:PUBLISH
CALSCALE:GREGORIAN
REFRESH-INTERVAL:PT15M
X-PUBLISHED-TTL:PT15M
X-WR-CALNAME:The Elder Scrolls Online
NAME:The Elder Scrolls Online
BEGIN:VTIMEZONE
TZID:Europe/London
TZURL:http://tzurl.org/zoneinfo/Europe/London
X-LIC-LOCATION:Europe/London
BEGIN:DAYLIGHT
TZOFFSETFROM:+0000
TZOFFSETTO:+0100
TZNAME:BST
DTSTART:20210328T020000Z
RRULE:FREQ=YEARLY;BYMONTH=3;BYDAY=-1SU
END:DAYLIGHT
BEGIN:STANDARD
TZOFFSETFROM:+0100
TZOFFSETTO:+0000
TZNAME:GMT
DTSTART:20211031T020000Z
RRULE:FREQ=YEARLY;BYMONTH=10;BYDAY=-1SU
END:STANDARD
END:VTIMEZONE
BEGIN:VEVENT
SUMMARY:[TESO] PvE в Сиродииле за Альдме
	рский Доминион
DTSTAMP:20210423T162914Z
SEQUENCE:0
UID:9132-1-afb15bc42254ad5fb0481ce5e9c8144d@forum.bandits-clan.ru
ORGANIZER;CN="burava1":web@bandits-clan.ru
DESCRIPTION:\n	СОВМЕСТ
	НОЕ ЗАКРЫТИ
	Е СЮЖЕТНОЙ 
	ЛИНИИ ВСЕХ КВЕСТОВ И 
	АКТИВНОСТЕЙ В СИРОДИЛЕ ЗА АЛЬДМЕРСК
	ИЙ ДОМИНИОН\n
DTSTART:20210426T140000Z
DTEND:20210426T140500Z
ATTENDEE;CN="burava1";CUTYPE=INDIVIDUAL;PARTSTAT=ACCEPTED:we
	b@bandits-clan.ru
END:VEVENT
END:VCALENDAR
