BEGIN:VCALENDAR
VERSION:2.0
PRODID:-//InvisionCommunity Events 4.7.14//EN
METHOD:PUBLISH
CALSCALE:GREGORIAN
REFRESH-INTERVAL:PT15M
X-PUBLISHED-TTL:PT15M
X-WR-CALNAME:The Elder Scrolls Online
NAME:The Elder Scrolls Online
BEGIN:VTIMEZONE
TZID:Europe/London
TZURL:http://tzurl.org/zoneinfo/Europe/London
X-LIC-LOCATION:Europe/London
BEGIN:DAYLIGHT
TZOFFSETFROM:+0000
TZOFFSETTO:+0100
TZNAME:BST
DTSTART:20210328T020000Z
RRULE:FREQ=YEARLY;BYMONTH=3;BYDAY=-1SU
END:DAYLIGHT
BEGIN:STANDARD
TZOFFSETFROM:+0100
TZOFFSETTO:+0000
TZNAME:GMT
DTSTART:20211031T020000Z
RRULE:FREQ=YEARLY;BYMONTH=10;BYDAY=-1SU
END:STANDARD
END:VTIMEZONE
BEGIN:VEVENT
SUMMARY:[TESO] Испытание вет. Этериански
	й Архив
DTSTAMP:20210421T141253Z
SEQUENCE:0
UID:9125-1-afb15bc42254ad5fb0481ce5e9c8144d@forum.bandits-clan.ru
ORGANIZER;CN="F4N7":web@bandits-clan.ru
DESCRIPTION:\n	В 18-00 по МСК\n\n\n\n	Пр
	иглашаю всех ж
	елающих от 300
	 ОГ пройти один из триа
	лов Краглорна вет. Этерианский
	 Архив (vAA)\n\n\n\n	Состав:\n\n	1 танк
	\, 2 хила\, 8 дд(пойду ддшкой)\
	n\n\n\n	Требования:\n\n	- Для
	 танка и хилера - аттестация
	 нормал\n\n	- Для дд - наличие
	 дпс 15 000+\n\n	- Установленные аддоны Code's C
	ombat Alerts\, Raid Notifier и Hodor Reflexes\n\n	
	- Распределени
	е ОГ согласно Бандит
	скому интерфейсу (BUI
	)(пока не актуально)\n\n
		- Наличие одетой гидейс
	кой накидки\n\n\n\n	Длител
	ьность рейда 1 час.\n\n\
	n\n	Сбор: голос дискорд в 
	комнате Триал 1\, в и
	гре гильдхолл\n\n\n\n	Д
	ля участия нажим
	айте слева на кноп
	ку \"Пойду\"\, а в комментарии вн
	изу пишите свою роль и игровой ID\n
DTSTART:20210424T150000Z
ATTENDEE;CN="F4N7";CUTYPE=INDIVIDUAL;PARTSTAT=ACCEPTED:web@b
	andits-clan.ru
ATTENDEE;CN="Askerag";CUTYPE=INDIVIDUAL;PARTSTAT=ACCEPTED:we
	b@bandits-clan.ru
END:VEVENT
END:VCALENDAR
