BEGIN:VCALENDAR
VERSION:2.0
PRODID:-//InvisionCommunity Events 4.7.14//EN
METHOD:PUBLISH
CALSCALE:GREGORIAN
REFRESH-INTERVAL:PT15M
X-PUBLISHED-TTL:PT15M
X-WR-CALNAME:The Elder Scrolls Online
NAME:The Elder Scrolls Online
BEGIN:VTIMEZONE
TZID:Europe/London
TZURL:http://tzurl.org/zoneinfo/Europe/London
X-LIC-LOCATION:Europe/London
BEGIN:DAYLIGHT
TZOFFSETFROM:+0000
TZOFFSETTO:+0100
TZNAME:BST
DTSTART:20210328T020000Z
RRULE:FREQ=YEARLY;BYMONTH=3;BYDAY=-1SU
END:DAYLIGHT
BEGIN:STANDARD
TZOFFSETFROM:+0100
TZOFFSETTO:+0000
TZNAME:GMT
DTSTART:20211031T020000Z
RRULE:FREQ=YEARLY;BYMONTH=10;BYDAY=-1SU
END:STANDARD
END:VTIMEZONE
BEGIN:VEVENT
SUMMARY:[TESO] vCR+0 Ветеранский Клаудрест +0
DTSTAMP:20210418T231236Z
SEQUENCE:0
UID:9111-1-afb15bc42254ad5fb0481ce5e9c8144d@forum.bandits-clan.ru
ORGANIZER;CN="NekrosOldSchool":web@bandits-clan.ru
DESCRIPTION:\n	ПРОБНЫЙ ТРАЙ vCR+0\n\n\n\n	
	НАЖИМАЕМ КНОПКУ ПОЙДУ\n\
	n\n\n	В КОММЕНТАРИЯХ УКАЗЫВАЕМ \n\
	n\n\n	СВОЮ РОЛЬ И ID В ИГРЕ.\n\n\n\n	СОСТАВ\n
	\n\n\n	3 ТАНКА \n\n\n\n	2 ХИЛА \n\n\n\n	7 
	ДД \n\n\n\n	ТРЕБОВАНИЯ К СОСТА
	ВУ \n\n\n\n	ОБЯЗАТЕЛЬНОЕ УСЛОВИЕ\n\
	n\n\n	СВЯЗЬ ДИСКОРД!!!\n\n\n\n	ДЛЯ ДД 
	\, ХИЛОВ \, ТАНКОВ. \n\n\n\n	АТ
	ТЕСТАЦИЯ НОРМАЛ. \n\n\n\n	Т
	АБАРД ГИЛЬДИИ. \n\n\n
	\n	ПРИ НЕ СБОРЕ РЕЙДА
	 В УКАЗАННОЕ ВРЕМЯ. ТРАЙ ТРИАЛА БУДЕ
	Т ОТМЕНЁН. \n\n\n\n	 \n
DTSTART:20210420T110000Z
DTEND:20210420T110500Z
ATTENDEE;CN="NekrosOldSchool";CUTYPE=INDIVIDUAL;PARTSTAT=ACC
	EPTED:web@bandits-clan.ru
ATTENDEE;CN="LordDeath";CUTYPE=INDIVIDUAL;PARTSTAT=ACCEPTED:
	web@bandits-clan.ru
ATTENDEE;CN="KermitToxicFrog";CUTYPE=INDIVIDUAL;PARTSTAT=ACC
	EPTED:web@bandits-clan.ru
ATTENDEE;CN="Baltazar";CUTYPE=INDIVIDUAL;PARTSTAT=ACCEPTED:w
	eb@bandits-clan.ru
ATTENDEE;CN="F4N7";CUTYPE=INDIVIDUAL;PARTSTAT=ACCEPTED:web@b
	andits-clan.ru
ATTENDEE;CN="ivydnb";CUTYPE=INDIVIDUAL;PARTSTAT=ACCEPTED:web
	@bandits-clan.ru
ATTENDEE;CN="SKIL1";CUTYPE=INDIVIDUAL;PARTSTAT=ACCEPTED:web@
	bandits-clan.ru
END:VEVENT
END:VCALENDAR
