BEGIN:VCALENDAR
VERSION:2.0
PRODID:-//InvisionCommunity Events 4.7.14//EN
METHOD:PUBLISH
CALSCALE:GREGORIAN
REFRESH-INTERVAL:PT15M
X-PUBLISHED-TTL:PT15M
X-WR-CALNAME:The Elder Scrolls Online
NAME:The Elder Scrolls Online
BEGIN:VTIMEZONE
TZID:Europe/London
TZURL:http://tzurl.org/zoneinfo/Europe/London
X-LIC-LOCATION:Europe/London
BEGIN:DAYLIGHT
TZOFFSETFROM:+0000
TZOFFSETTO:+0100
TZNAME:BST
DTSTART:20210328T020000Z
RRULE:FREQ=YEARLY;BYMONTH=3;BYDAY=-1SU
END:DAYLIGHT
BEGIN:STANDARD
TZOFFSETFROM:+0100
TZOFFSETTO:+0000
TZNAME:GMT
DTSTART:20211031T020000Z
RRULE:FREQ=YEARLY;BYMONTH=10;BYDAY=-1SU
END:STANDARD
END:VTIMEZONE
BEGIN:VEVENT
SUMMARY:[TESO] Мировые Боссы
	 и Бури \"Западного Скайрима\" и \"Черного
	 Предела\".
DTSTAMP:20210415T162905Z
SEQUENCE:0
UID:9108-1-afb15bc42254ad5fb0481ce5e9c8144d@forum.bandits-clan.ru
ORGANIZER;CN="Pupezky":web@bandits-clan.ru
DESCRIPTION:\n	В 18:00 по МСК\n\n\n
	\n	Приглашаю 
	всех желающи
	х\, абсолютно
	 любого уровня
	 и класса\, пр
	обежаться по Ми
	ровым Боссам и Бу
	рям локаций \"Западного 
	Скайрима\" и \"Черного П
	редела\".\n\n\n\n	Закро
	ем достижения\, пофармим
	 зацепки\, мотивы\, получим лут 
	и опыт.\n\n\n\n	Требования:\n\n\n\n	
	- наличие активной подписки 
	ESO PLUS (либо наличие главы \"Г
	реймур\")\n\n\n\n	- гильдейска
	я накидка (табард)\n\n\n\n	- хорошее
	 настроение)) \n\n\n\n	Сбор 
	в 17:55 в Дискорде\, в комна
	те \"Мировые Боссы\"\n\
	n\n\n	Не забываем нажать на кнопоч
	ку \"ПОЙДУ\" с левой стороны)).\n
DTSTART:20210418T150000Z
DTEND:20210418T170000Z
ATTENDEE;CN="Pupezky";CUTYPE=INDIVIDUAL;PARTSTAT=ACCEPTED:we
	b@bandits-clan.ru
ATTENDEE;CN="DarkQueen";CUTYPE=INDIVIDUAL;PARTSTAT=ACCEPTED:
	web@bandits-clan.ru
END:VEVENT
END:VCALENDAR
