BEGIN:VCALENDAR
VERSION:2.0
PRODID:-//InvisionCommunity Events 4.7.14//EN
METHOD:PUBLISH
CALSCALE:GREGORIAN
REFRESH-INTERVAL:PT15M
X-PUBLISHED-TTL:PT15M
X-WR-CALNAME:The Elder Scrolls Online
NAME:The Elder Scrolls Online
BEGIN:VTIMEZONE
TZID:Europe/London
TZURL:http://tzurl.org/zoneinfo/Europe/London
X-LIC-LOCATION:Europe/London
BEGIN:DAYLIGHT
TZOFFSETFROM:+0000
TZOFFSETTO:+0100
TZNAME:BST
DTSTART:20210328T020000Z
RRULE:FREQ=YEARLY;BYMONTH=3;BYDAY=-1SU
END:DAYLIGHT
BEGIN:STANDARD
TZOFFSETFROM:+0100
TZOFFSETTO:+0000
TZNAME:GMT
DTSTART:20211031T020000Z
RRULE:FREQ=YEARLY;BYMONTH=10;BYDAY=-1SU
END:STANDARD
END:VTIMEZONE
BEGIN:VEVENT
SUMMARY:[TESO] Ветеранское испытание Паст
	ь Лорхаджа (vMOL)
DTSTAMP:20210413T133152Z
SEQUENCE:0
UID:9104-1-afb15bc42254ad5fb0481ce5e9c8144d@forum.bandits-clan.ru
ORGANIZER;CN="Kubik":web@bandits-clan.ru
DESCRIPTION:\n	Пригла
	шаю всех желающих 
	пройти ветеранское ис
	пытание Пасть Лорхаджа (
	vMOL) в 20:00 МСК. Приоритет 
	на людей\, которые отмети
	лись в канале #vmol в дискорде.\n\
	n\n\n	Необходимый состав:\n\n\n\n		2 Танка\n
		\n	\n		2 Лекаря\n	\n	\n		8 Бойцов\n	\n\n	Об
	язательные аддоны:\n\n\n\n		Bandits User Int
	erface\n	\n\n	Требования для участия
	:\n\n\n\n		DLC - Гильдия Воров или подп
	иска.\n	\n	\n		Звание Bandit/Бандит\n	\n	
	\n		Discord и наличие микрофона\n	\n	\n		Таб
	ард гильдии Daggerfall Bandits / Bandits Clan
	\n	\n\n	Для подтвержд
	ения участия необ
	ходимо отметиться в кален
	даре:\n\n\n\n		Нажать кнопку П
	ойду\n	\n	\n		Указать свою рол
	ь и ID в комментариях\n
		\n	\n		Если по каки
	м-то причинам 
	не получится п
	рийти\, отписаться
	 в комментариях\, измени
	в свое сообщение\n	\n\n	Описание испытания:
	\n\n\n\n\n	 \n
DTSTART:20210418T170000Z
DTEND:20210418T170500Z
ATTENDEE;CN="Kubik";CUTYPE=INDIVIDUAL;PARTSTAT=ACCEPTED:web@
	bandits-clan.ru
ATTENDEE;CN="Baltazar";CUTYPE=INDIVIDUAL;PARTSTAT=ACCEPTED:w
	eb@bandits-clan.ru
ATTENDEE;CN="Weightlifting76";CUTYPE=INDIVIDUAL;PARTSTAT=ACC
	EPTED:web@bandits-clan.ru
ATTENDEE;CN="KitzyTyzy";CUTYPE=INDIVIDUAL;PARTSTAT=ACCEPTED:
	web@bandits-clan.ru
ATTENDEE;CN="burava1";CUTYPE=INDIVIDUAL;PARTSTAT=ACCEPTED:we
	b@bandits-clan.ru
ATTENDEE;CN="Narmir";CUTYPE=INDIVIDUAL;PARTSTAT=ACCEPTED:web
	@bandits-clan.ru
END:VEVENT
END:VCALENDAR
